BEGIN:VCALENDAR
VERSION:2.0
PRODID:-//Ludwigshafen WOW //NONSGML Events //EN
CALSCALE:GREGORIAN
X-WR-CALNAME:Ludwigshafen WOW
BEGIN:VTIMEZONE
TZID:Europe/Berlin
TZURL:http://tzurl.org/zoneinfo-outlook/Europe/Berlin
X-LIC-LOCATION:Europe/Berlin
BEGIN:STANDARD
TZOFFSETFROM:+0200
TZOFFSETTO:+0100
TZNAME:CET
DTSTART:19701025T030000
RRULE:FREQ=YEARLY;BYMONTH=10;BYDAY=-1SU
END:STANDARD
BEGIN:DAYLIGHT
TZOFFSETFROM:+0100
TZOFFSETTO:+0200
TZNAME:CEST
DTSTART:19700329T020000
RRULE:FREQ=YEARLY;BYMONTH=3;BYDAY=-1SU
END:DAYLIGHT
END:VTIMEZONE
BEGIN:VEVENT
TZID:Europe/Berlin
CREATED:20211022T090700
UID:10648
DTSTART;TZID=Europe/Berlin:20260421T181447
DTEND;TZID=Europe/Berlin:20211022T213000
DTSTAMP:20260421T161447
LOCATION:Kulturzentrum dasHaus\, Bahnhofstraße 30\, 67059 Ludwigshafen am Rhein
DESCRIPTION:Spätestens seit dem Erfolg seiner Single "Ich würd‘ lügen" im Jahr 2020 (über 3 Monate in den DE Singlecharts, mehr als 40.000.000 Streams) zählt KAYEF zu den relevantesten deutschsprachigen Popkünstlern des Landes. Dabei lässt sich der 25-jährige nicht in eine Schublade stecken und bedient sich in seiner Musik frei an Elementen aus Rap, Pop und R&B und kreiert daraus einen ganz eigenen Sound. Dieser unterstreicht zum einen den barrierefreien Zeitgeist seiner Generation und sorgt gleichzeitig für ein Alleinstellungsmerkmal innerhalb der deutschen Musiklandschaft.Angefangen hat für den gebürtigen Düsseldorfer alles im Netz, dort baute er sich mit Hilfe von Youtube und Co. innerhalb der letzten Jahre eine große Fangemeinde auf, die mittlerweile mehre Millionen Menschen umfasst. So hören monatlich über 2.300.000 Fans seine Songs auf Spotify, über eine halbe Million Menschen abonnierten seinen YouTube Kanal und knapp 500.000 folgen ihm auf Instagram.Mit seinen Alben "Relikte letzter Nacht", "Chaos", "Modus" und jüngst "Struggle is real" ist er nun auch wieder auf den Bühnen der Republik unterwegs und bietet, zusammen mit seiner Band, eine Show, die tanzbare Beats, Melodien mit Ohwurmgarantie und Texte, die direkt ins Herz gehen, garantiert.Für wahre Fans ein echtes Muss, für alle die es noch werden wollen die perfekte Chance, seine Hits wie "Musik", "Ich würd lügen", "Wir sind okay" und "Warum" live zu erleben. Quelle: Kulturzentrum dasHaus, Foto: Tobi HolzweilerPreisVVK 35,95 Euro inkl. Geb. | AK 38 Euro inkl. Geb.   TICKETS 
SUMMARY:KAYEF live Tour 2021
ORGANIZER:ludwigshafen-wow
URL;VALUE=URI:https://ludwigshafen-wow.de/?p=10648
TRANSP:OPAQUE
BEGIN:VALARM
ACTION:DISPLAY
TRIGGER;TZID=Europe/Berlin:20260421T171447
DESCRIPTION:Reminder for KAYEF live Tour 2021
END:VALARM
END:VEVENT
END:VCALENDAR
