BEGIN:VCALENDAR
VERSION:2.0
PRODID:-//Ludwigshafen WOW //NONSGML Events //EN
CALSCALE:GREGORIAN
X-WR-CALNAME:Ludwigshafen WOW
BEGIN:VTIMEZONE
TZID:Europe/Berlin
TZURL:http://tzurl.org/zoneinfo-outlook/Europe/Berlin
X-LIC-LOCATION:Europe/Berlin
BEGIN:STANDARD
TZOFFSETFROM:+0200
TZOFFSETTO:+0100
TZNAME:CET
DTSTART:19701025T030000
RRULE:FREQ=YEARLY;BYMONTH=10;BYDAY=-1SU
END:STANDARD
BEGIN:DAYLIGHT
TZOFFSETFROM:+0100
TZOFFSETTO:+0200
TZNAME:CEST
DTSTART:19700329T020000
RRULE:FREQ=YEARLY;BYMONTH=3;BYDAY=-1SU
END:DAYLIGHT
END:VTIMEZONE
BEGIN:VEVENT
TZID:Europe/Berlin
CREATED:20220723T162900
UID:16521
DTSTART;TZID=Europe/Berlin:20220723T140000
DTEND;TZID=Europe/Berlin:20220723T200000
DTSTAMP:20260420T143616
LOCATION:Wilhelm-Hack-MuseumBerliner Str. 23\, 67059 Ludwigshafen am Rhein
DESCRIPTION:Spendenprojekt der WelthungerhilfeWie können wir bewusster mit unseren Lebensmitteln umgehen?Eine Veranstaltung mit Infoständen und Diskussionsrunden zu den Themen Foodsharing, Öko-Landwirtschaft, Fairtrade. Alle Spenden gehen direkt an das Projekt Nutrition Smart Villages: Gut Beraten – Besser Ernährt, welches in Nepal junge Frauen und Mütterzu Ernährungs- und Hygienethemen vor Ort berät und unterstützt.Dabei sind:Pranita Rottmann, indischer TanzThomas Groß, SaxofonFairtrade Town LudwigshafenIGS Gartenstadt,Partnerschaft mit RuandaEss Bar, Pfälzer LebensmittelretterTafel LudwigshafenNabuDie Maudacher GemüsegarageOnuado, afrikanischerVerein aus SpeyerNRNALCC Hessen,Nepalesischer VereinUm 18:00 spielt Kamohelo aus Worms, mit Sahin Cokbilir Weltmusik danach legt Kollektiv Waldfunk auf.Quelle: hackmuseumsgARTen, Bild: Welthungerhunger
SUMMARY:Für eine Welt ohne Hunger
ORGANIZER:ludwigshafen-wow
URL;VALUE=URI:https://ludwigshafen-wow.de/?p=16521
TRANSP:OPAQUE
BEGIN:VALARM
ACTION:DISPLAY
TRIGGER;TZID=Europe/Berlin:20220723T130000
DESCRIPTION:Reminder for Für eine Welt ohne Hunger
END:VALARM
END:VEVENT
END:VCALENDAR
