BEGIN:VCALENDAR
VERSION:2.0
PRODID:-//Ludwigshafen WOW //NONSGML Events //EN
CALSCALE:GREGORIAN
X-WR-CALNAME:Ludwigshafen WOW
BEGIN:VTIMEZONE
TZID:Europe/Berlin
TZURL:http://tzurl.org/zoneinfo-outlook/Europe/Berlin
X-LIC-LOCATION:Europe/Berlin
BEGIN:STANDARD
TZOFFSETFROM:+0200
TZOFFSETTO:+0100
TZNAME:CET
DTSTART:19701025T030000
RRULE:FREQ=YEARLY;BYMONTH=10;BYDAY=-1SU
END:STANDARD
BEGIN:DAYLIGHT
TZOFFSETFROM:+0100
TZOFFSETTO:+0200
TZNAME:CEST
DTSTART:19700329T020000
RRULE:FREQ=YEARLY;BYMONTH=3;BYDAY=-1SU
END:DAYLIGHT
END:VTIMEZONE
BEGIN:VEVENT
TZID:Europe/Berlin
CREATED:20230615T112945
UID:25962
DTSTART;TZID=Europe/Berlin:20230615T090000
DTEND;TZID=Europe/Berlin:20230615T100000
DTSTAMP:20260423T090111
LOCATION:
DESCRIPTION:Seit 1924 wird in der Privat-Kaffee-Rösterei Mohrbacher rein handwerklich Kaffee geröstet. Sie schauen dem Röster mit Ihren Kameras "über die Schulter" - und den Ausleserinnen "auf die Finger". Hier sehen Sie, wie Röstkaffee entsteht. Es gibt in der Produktion keine Computer – die Prozesse werden noch von Hand geregelt. Treffpunkt ist am 15.06. um 9:00 Uhr vor der Privat-Kaffee-Rösterei Mohrbacher. Nach Besprechung der nötigen Kameraeinstellungen für die Fotografie starten wir mit dem Fotoshooting in der Rösterei. Für diese Fotoexkursion sind Grundkenntnisse, z.B. aus "Einführung in die (digitale) Fotografie" notwendig. Bitte mitbringen: Kamera/Objektive (Weitwinkel), Speicherkarten und geladene Akkus. Text & Bild: Ulrich OberstLeitung: Ulrich OberstTermine: Donnerstag, 15.06. 09:00 - 12:00 UhrPrivat-Kaffee-Rösterei Mohrbacher, Mundenheimer Str. 233, 67061 LudwigshafenMittwoch, 21.06. 18:00 - 21:00 UhrBildbesprechung in der VHS, Raum 06Anmeldung: www.vhs-lu.deMaximal 6 TeilnehmendePreis: 49 Euro Wir sind der Meinung, dass Ludwigshafens Kulturszene, institutionell wie auch frei, mehr Aufmerksamkeit verdient. Deswegen füllen wir regelmäßig per Hand und mit Liebe unseren Online-Veranstaltungskalender für alles rund um Kunst und Kultur in Ludwigshafen. Dort findest du neben all den hier abgebildeten Touren bestimmt auch noch andere Veranstaltungen, die dir gefallen werden! Weil wir aber nicht nur die Kultur, sondern auch die Stadt selbst total spannend finden, möchten wir dich einladen, sie gemeinsam mit uns (neu) zu entdecken!Mit den WOW CITY TOURS bündeln wir deshalb verschiedenste Stadtführungsformate, die sich mit ganz unterschiedlichen Aspekten, unter denen man unsere Stadt am Rhein betrachten kann, beschäftigen.Entdecke mit uns neue Details, die dir nie aufgefallen sind, schaue mit uns hinter meterdicke Wände, erfahre Hintergrundinformationen und Fun Facts zu den größten Kunstwerken der Stadt oder spiele mit uns ein Urban Game. Ludwigshafen wartet auf dich!Hier geht's zu den restlichen WOW CITY TOURS    Gefördert durch den 33. Ludwigshafener Kultursommer.     
SUMMARY:#WCT. Fotoexkursion zur Privat-Kaffee-Rösterei Mohrbacher
ORGANIZER:ludwigshafen-wow
URL;VALUE=URI:https://ludwigshafen-wow.de/?p=25962
TRANSP:OPAQUE
BEGIN:VALARM
ACTION:DISPLAY
TRIGGER;TZID=Europe/Berlin:20230615T080000
DESCRIPTION:Reminder for #WCT. Fotoexkursion zur Privat-Kaffee-Rösterei Mohrbacher
END:VALARM
END:VEVENT
END:VCALENDAR
