BEGIN:VCALENDAR
VERSION:2.0
PRODID:-//Ludwigshafen WOW //NONSGML Events //EN
CALSCALE:GREGORIAN
X-WR-CALNAME:Ludwigshafen WOW
BEGIN:VTIMEZONE
TZID:Europe/Berlin
TZURL:http://tzurl.org/zoneinfo-outlook/Europe/Berlin
X-LIC-LOCATION:Europe/Berlin
BEGIN:STANDARD
TZOFFSETFROM:+0200
TZOFFSETTO:+0100
TZNAME:CET
DTSTART:19701025T030000
RRULE:FREQ=YEARLY;BYMONTH=10;BYDAY=-1SU
END:STANDARD
BEGIN:DAYLIGHT
TZOFFSETFROM:+0100
TZOFFSETTO:+0200
TZNAME:CEST
DTSTART:19700329T020000
RRULE:FREQ=YEARLY;BYMONTH=3;BYDAY=-1SU
END:DAYLIGHT
END:VTIMEZONE
BEGIN:VEVENT
TZID:Europe/Berlin
CREATED:20240315T140801
UID:33201
DTSTART;TZID=Europe/Berlin:20240315T193000
DTEND;TZID=Europe/Berlin:20240315T203000
DTSTAMP:20260420T102442
LOCATION:Theater im Pfalzbau\, Berliner Str. 30\, 67059 Ludwigshafen am Rhein
DESCRIPTION:Das Balé da Cidade de São Paulo ist eines der wichtigsten Ensembles für zeitgenössischen Tanz in Südamerika. Nahezu perfekte Tänzerinnen und Tänzer und ein konsequent experimenteller Ansatz bringen außergewöhnliche Kreationen hervor, die seit Jahrzehnten auch in Europa bejubelt werden. In Ludwigshafen war die Compagnie zuletzt 2021 zu erleben.Zwei Choreographien des neuen Tanzabends sind Deutschlandpremieren: Transe fragt nach nichts Geringerem als dem Ideal einer perfekten Welt. Die Choreographie von Clébio Oliviera gleicht einer nie endenden Party, einem futuristischen Ritual der kollektiven Ekstase, mit dem man eintaucht in die welt der Sinne. Isso dá um Baile von Hendrique Rodovalho gewinnt seine Inspiration aus den Tänzen der Favelas in Rio, dem Breakdance, Hip-Hop, Funk, Samba und weiteren Bewegungsformen der Straße. In der dritten Choreographie, Adastra von Cayetano Soto, geht es um Lebensphilosophien und die Frage, welcher Weg uns Menschen zu den Sternen, zum Licht führt.Quelle: Theater im Pfalzbau.https://www.youtube.com/watch?v=aSCF8cSEegsAdastra / Transe / Isso dá um BaileChoreographien von Cayetano Soto, Clébio Oliviera und Henrique RodovalhoBrasilienAdastraChoreographie, Lichtdesign und Kostüme Cayetano SotoMusik Ezio BossoTranse (Deutschlandpremiere)Choreographie Clébio OlivieraMusik MatresanchLichtdesign Mirella BrandiKostüme João PimentaIsso dá um Baile (Deutschlandpremiere)Choreographie und Lichtdesign Henrique RodovalhoSoundtrack Heavy Baile, Leo Justi & Theo ZagraeVideo Cauã CsikKostüme Cássio Brasil GROSSE BÜHNE  FR, 15.03.24, 19:30 UHR, TTSA, 16.03.24, 19:30 UHR, BR 2, TG 2, TG 3Preise 55 € / 47 € / 39 € / 31 €Dauer ca. 2 Stunden
SUMMARY:Balé da Cidade de São Paulo
ORGANIZER:ludwigshafen-wow
URL;VALUE=URI:https://ludwigshafen-wow.de/?p=33201
TRANSP:OPAQUE
BEGIN:VALARM
ACTION:DISPLAY
TRIGGER;TZID=Europe/Berlin:20240315T183000
DESCRIPTION:Reminder for Balé da Cidade de São Paulo
END:VALARM
END:VEVENT
END:VCALENDAR
