BEGIN:VCALENDAR
VERSION:2.0
PRODID:-//Ludwigshafen WOW //NONSGML Events //EN
CALSCALE:GREGORIAN
X-WR-CALNAME:Ludwigshafen WOW
BEGIN:VTIMEZONE
TZID:Europe/Berlin
TZURL:http://tzurl.org/zoneinfo-outlook/Europe/Berlin
X-LIC-LOCATION:Europe/Berlin
BEGIN:STANDARD
TZOFFSETFROM:+0200
TZOFFSETTO:+0100
TZNAME:CET
DTSTART:19701025T030000
RRULE:FREQ=YEARLY;BYMONTH=10;BYDAY=-1SU
END:STANDARD
BEGIN:DAYLIGHT
TZOFFSETFROM:+0100
TZOFFSETTO:+0200
TZNAME:CEST
DTSTART:19700329T020000
RRULE:FREQ=YEARLY;BYMONTH=3;BYDAY=-1SU
END:DAYLIGHT
END:VTIMEZONE
BEGIN:VEVENT
TZID:Europe/Berlin
CREATED:20240319T141554
UID:33208
DTSTART;TZID=Europe/Berlin:20240319T100000
DTEND;TZID=Europe/Berlin:20240319T110000
DTSTAMP:20260420T101145
LOCATION:Theater im Pfalzbau\, Berliner Str. 30\, 67059 Ludwigshafen am Rhein
DESCRIPTION:Rumpelstilzchen „fliegt und surrt wie ein Raumschiff und es leuchtet sogar niedlich im Dunkeln. Erst später wächst das Männchen zu einschüchternder Größe heran, als es von Müllerstochter Marie das erstgeborene Kind einfordert für sein Werk, aus Stroh so reichlich Gold gesponnen zu haben, dass es überall nur so glänzt auf der Bühne.“ Thüringer Allgemeine Zeitung„Meine Tochter kann Stroh zu Gold spinnen!“, prahlt der Müller. Der goldgierige König droht der armen Müllerstochter mit dem Tod, wenn ihr das Kunststück nicht gelingt. Ein Zaubermännchen hilft ihr dabei, verlangt aber als Preis dafür ihr Kind. Ob sich die Müllerstochter das alles gefallen lässt?In der Bearbeitung des bekannten Märchens drehen sich die Räder, es wird gesponnen und gezaubert, es rumpelt und blitzt und es funkelt das Gold. Das Rumpelstilzchen tanzt und singt und saust umher, und die Kinder sind mittendrin, wenn es auf die Suche nach seinem Namen geht. Susanne Koschig hält sich in ihrer Inszenierung im Wesentlichen an die literarische Vorlage. Zwei Erzähler präsentieren die Geschichte und beziehen das Publikum in einer offenen Spielweise an einzelnen Stellen mit ein.Quelle: Theater im Pfalzbau.https://vimeo.com/264921866Puppentheater nach dem Märchen der Brüder GrimmFür Kinder ab 5 Jahren und ErwachseneTheater Waidspeicher ErfurtInszenierung Susanne KoschigBühne, Puppen und Kostüme Bärbel HaageMusik Udo HemmannKLEINE BÜHNEDI, 19.03.24, 10:00 UHREinheitspreis 10 € / ermäßigt 6 €Familienpaket 28 €Dauer ca. 50 Minuten
SUMMARY:Rumpelstilzchen
ORGANIZER:ludwigshafen-wow
URL;VALUE=URI:https://ludwigshafen-wow.de/?p=33208
TRANSP:OPAQUE
BEGIN:VALARM
ACTION:DISPLAY
TRIGGER;TZID=Europe/Berlin:20240319T090000
DESCRIPTION:Reminder for Rumpelstilzchen
END:VALARM
END:VEVENT
END:VCALENDAR
