BEGIN:VCALENDAR
VERSION:2.0
PRODID:-//Ludwigshafen WOW //NONSGML Events //EN
CALSCALE:GREGORIAN
X-WR-CALNAME:Ludwigshafen WOW
BEGIN:VTIMEZONE
TZID:Europe/Berlin
TZURL:http://tzurl.org/zoneinfo-outlook/Europe/Berlin
X-LIC-LOCATION:Europe/Berlin
BEGIN:STANDARD
TZOFFSETFROM:+0200
TZOFFSETTO:+0100
TZNAME:CET
DTSTART:19701025T030000
RRULE:FREQ=YEARLY;BYMONTH=10;BYDAY=-1SU
END:STANDARD
BEGIN:DAYLIGHT
TZOFFSETFROM:+0100
TZOFFSETTO:+0200
TZNAME:CEST
DTSTART:19700329T020000
RRULE:FREQ=YEARLY;BYMONTH=3;BYDAY=-1SU
END:DAYLIGHT
END:VTIMEZONE
BEGIN:VEVENT
TZID:Europe/Berlin
CREATED:20240321T142327
UID:33215
DTSTART;TZID=Europe/Berlin:20240321T193000
DTEND;TZID=Europe/Berlin:20240321T203000
DTSTAMP:20260420T140123
LOCATION:Theater im Pfalzbau\, Berliner Str. 30\, 67059 Ludwigshafen am Rhein
DESCRIPTION:Seit Jahrzehnten ist das RambaZamba Theater eine feste Größe im Berliner Kulturleben. Gegründet wurde es 1990 von Gisela Höhne und Klaus Erforth, mit einer Besonderheit: Die Spielerinnen und Spieler haben geistige oder körperliche Einschränkungen. Was sie nicht daran hindert, professionell zu agieren. In ihrer festen Spielstätte mit Repertoirebetrieb werden die Schauspieler*innen kontinuierlich ausgebildet und trainiert. Elfriede Jelinek steht auf dem Spielplan genauso wie Molière und Lorca, und seit Oktober 2022 Ken Keseys Einer flog über das Kuckucksnest in der Bühnenadaption von Dale Wassermann.Bekanntlich spielt diese Geschichte in einer trostlosen psychiatrischen Anstalt. Hier sind die Verrückten, draußen die Normalen, so sieht es die Gesellschaft. Den Patienten wird jedes Recht auf Selbstbestimmung abgesprochen. Das könnte ein sehr trauriger Theaterabend sein, gäbe es nicht das großartig anarchische Ensemble und den Regisseur Leander Haußmann. So wird ein riesiger Theaterspaß daraus, natürlich mit der Erkenntnis, dass Verrücktheit eine Sache der Perspektive ist.Quelle: Theater im Pfalzbau.https://www.youtube.com/watch?v=aI6TgYB48mIVon Dale WassermannNach dem Roman von Ken KeseyRambaZamba TheaterBerlinInszenierung Leander HaußmannMusik gespensterVideo Marco CasiglieriLicht Andrei Albu, Amelie Boitz, Martin WolterTon Gary Scully, Fatemeh GhasamipourDramaturgie Steffen SünkelMit Christian Behrend, Franziska Kleinert, Anil Merickan, Dirk Nadler, Rebecca Sickmüller, Jonas Sippel, Sebastian Urbanski, Nele WinklerGäste Phil Haussmann, Amon Wendel, Matthias Mosbach / Norbert StößDarsteller*innen im Film Detlev Buck, Tanju Bilir, Claudia Graue, Kunigunde Kuhl, Leander Haußmann, Clara Metzger, Karla Sengteller KLEINE BÜHNEDO, 21.03.24, 19:30 UHR, S 2FR, 22.03.24, 19:30 UHR, AL 1, TG 4, UPEinheitspreis 31 € / ermäßigt 23 €Dauer 1 Stunde 40 Minuten, keine Pause
SUMMARY:Einer flog über das Kuckucksnest
ORGANIZER:ludwigshafen-wow
URL;VALUE=URI:https://ludwigshafen-wow.de/?p=33215
TRANSP:OPAQUE
BEGIN:VALARM
ACTION:DISPLAY
TRIGGER;TZID=Europe/Berlin:20240321T183000
DESCRIPTION:Reminder for Einer flog über das Kuckucksnest
END:VALARM
END:VEVENT
END:VCALENDAR
