BEGIN:VCALENDAR
VERSION:2.0
PRODID:-//Ludwigshafen WOW //NONSGML Events //EN
CALSCALE:GREGORIAN
X-WR-CALNAME:Ludwigshafen WOW
BEGIN:VTIMEZONE
TZID:Europe/Berlin
TZURL:http://tzurl.org/zoneinfo-outlook/Europe/Berlin
X-LIC-LOCATION:Europe/Berlin
BEGIN:STANDARD
TZOFFSETFROM:+0200
TZOFFSETTO:+0100
TZNAME:CET
DTSTART:19701025T030000
RRULE:FREQ=YEARLY;BYMONTH=10;BYDAY=-1SU
END:STANDARD
BEGIN:DAYLIGHT
TZOFFSETFROM:+0100
TZOFFSETTO:+0200
TZNAME:CEST
DTSTART:19700329T020000
RRULE:FREQ=YEARLY;BYMONTH=3;BYDAY=-1SU
END:DAYLIGHT
END:VTIMEZONE
BEGIN:VEVENT
TZID:Europe/Berlin
CREATED:20240405T210542
UID:33250
DTSTART;TZID=Europe/Berlin:20240405T193000
DTEND;TZID=Europe/Berlin:20240405T203000
DTSTAMP:20260422T085849
LOCATION:Theater im Pfalzbau\, Berliner Str. 30\, 67059 Ludwigshafen am Rhein
DESCRIPTION:Alceste liebt Célimène, doch die umworbene junge Witwe hält ihn hin. Ungeduldig begibt er sich in ihr Haus, um von ihr ein ­klares Bekenntnis zu hören. Dort trifft er auf Freunde und Konkurrenten, auf ihm gewogene Frauen, auf eine Gesellschaft, die bei Hof ein- und ausgeht und deren formvollendete Umgangsformen er als verlogen und geheuchelt ablehnt. Alceste ist ­allen bekannt: ein anstrengender Charakter, klug, witzig, wohlhabend und voller Hass auf eine Welt, zu der er gehört, wie sie zu ihm. ­Er schlägt um sich, verletzt mit Worten, predigt unbedingte Wahrheit, Kompromisslosigkeit und Weltflucht.Molière beschreibt in seiner bittersüßen Komödie das Leiden der Upperclass unter ihrem selbstauferlegten Zeremoniell. Anne Lenks straffe und schnörkellose Inszenierung zeigt heutige Menschen in ihrer ganzen Zerrissenheit, ihren Beziehungsängsten und alltäglichen Zwängen. Tiefgründig und lässig zugleich entwickeln Ulrich Matthes und Franziska Machens das Psychogramm zweier Liebender, die nicht zueinanderfinden.Quelle: Theater im Pfalzbau.https://www.youtube.com/watch?v=p0Lls7sM_eQVon MolièreDeutsches TheaterBerlinInszenierung Anne LenkBühne Florian LöscheKostüme Sybille WallumMusik Camill JammalLicht Matthias VogelDramaturgie Sonja AndersMit Ulrich Matthes, Manuel Harder, Franziska Machens, Lisa Hrdina, Judith Hofmann, Timo Weisschnur, Jeremy Mockridge, Elias ArensEingeladen zum Berliner Theatertreffen 2020Ausgezeichnet mit dem Friedrich-Luft-Preis 2020Eingeladen zum Hamburger Theater Festival 2020 GROSSE BÜHNEFR, 05.04.24, 19:30 UHR, S 1, TG 1, JA 2SA, 06.04.24, 19:30 UHR, COM 2, WA, TG 2Preise 47 € / 40 € / 33 € / 26 €Dauer 1 Stunde 30 Minuten, keine Pause
SUMMARY:Der Menschenfeind
ORGANIZER:ludwigshafen-wow
URL;VALUE=URI:https://ludwigshafen-wow.de/?p=33250
TRANSP:OPAQUE
BEGIN:VALARM
ACTION:DISPLAY
TRIGGER;TZID=Europe/Berlin:20240405T183000
DESCRIPTION:Reminder for Der Menschenfeind
END:VALARM
END:VEVENT
END:VCALENDAR
