BEGIN:VCALENDAR
VERSION:2.0
PRODID:-//Ludwigshafen WOW //NONSGML Events //EN
CALSCALE:GREGORIAN
X-WR-CALNAME:Ludwigshafen WOW
BEGIN:VTIMEZONE
TZID:Europe/Berlin
TZURL:http://tzurl.org/zoneinfo-outlook/Europe/Berlin
X-LIC-LOCATION:Europe/Berlin
BEGIN:STANDARD
TZOFFSETFROM:+0200
TZOFFSETTO:+0100
TZNAME:CET
DTSTART:19701025T030000
RRULE:FREQ=YEARLY;BYMONTH=10;BYDAY=-1SU
END:STANDARD
BEGIN:DAYLIGHT
TZOFFSETFROM:+0100
TZOFFSETTO:+0200
TZNAME:CEST
DTSTART:19700329T020000
RRULE:FREQ=YEARLY;BYMONTH=3;BYDAY=-1SU
END:DAYLIGHT
END:VTIMEZONE
BEGIN:VEVENT
TZID:Europe/Berlin
CREATED:20240413T214239
UID:33260
DTSTART;TZID=Europe/Berlin:20240413T193000
DTEND;TZID=Europe/Berlin:20240413T203000
DTSTAMP:20260420T111747
LOCATION:Theater im Pfalzbau\, Berliner Str. 30\, 67059 Ludwigshafen am Rhein
DESCRIPTION:Als die erfolglose Nachtclubsängerin Deloris Van Cartier eines Tages beobachtet, wie ihr Liebhaber Curtis Shank einen Mord begeht, muss sie vor seinen Schergen fliehen und untertauchen. Behilflich ist ihr dabei der Polizist Eddie, der bereits in der Schulzeit heimlich in Deloris verliebt war. Er versteckt sie schließlich in einem katholischen Kloster, wo sie als Schwester Mary Clarence zunächst Schwierigkeiten hat, sich in das gottesfürchtige Leben einzufinden. Auch die Mutter Oberin und Monsignore O’Hara sind zunächst wenig erfreut über die Ankunft ihres ungewöhnlichen Gastes. Nach einiger Zeit übernimmt Deloris schließlich die Leitung eines bislang wenig talentierten Nonnenchors und verschafft den Gottesdiensten durch ihre unkonventionellen Methoden und die spezielle Auswahl der Lieder ein großes neues Publikum. Ein Erfolg, auf den nicht nur der Papst selbst, sondern auch die Gangster aufmerksam werden. Eine atemlose Verfolgungsjagd beginnt.Das Musical Sister Act nach dem gleichnamigen Film mit Whoopi Goldberg in der Hauptrolle landete 2011 einen großen Erfolg am Broadway und trat danach seinen Siegeszug um die Welt an. Das Junge Musical der Pfalzbau Bühnen zeigt das Stück mit der mitreißenden Musik des mehrfachen Oscargewinners Alan Menken und der ebenso spannenden wie witzigen Handlung nun in Ludwigshafen.Quelle: Theater im Pfalzbau.Musical von Alan Menken und Glenn SlaterBuch Cheri Steinkellner & Bill SteinkellnerJunges Musical der Pfalzbau BühnenInszenierung Iris LimbarthMusikalische Leitung Frank BangertBühne Britta LammersKostüme Heike KornMusikalische Einstudierung Tim SpeckhardtChoreographische Einstudierung Anna OkunowskiSzenische Einstudierung Julia Sophia SchwarzMit Jugendlichen und jungen Erwachsenen aus Ludwigshafen und der Metropol-Region Rhein-Neckar GROSSE BÜHNESA, 13.04.24, 19:30 UHR, Premiere, AL 1, WA, TG 3, JA 1SO, 14.04.24, 14:30 UHR, SEN 1Preise 29 € / 25 € / 21 € / 17 €Familienpaket 77 € / 67 € / 53 € / 39 €Nachmittagsvorstellung 14.30 UhrFamilienpaket 65 €Dauer ca. 2 Stunden 30 Minuten, eine Pause
SUMMARY:Sister Act
ORGANIZER:ludwigshafen-wow
URL;VALUE=URI:https://ludwigshafen-wow.de/?p=33260
TRANSP:OPAQUE
BEGIN:VALARM
ACTION:DISPLAY
TRIGGER;TZID=Europe/Berlin:20240413T183000
DESCRIPTION:Reminder for Sister Act
END:VALARM
END:VEVENT
END:VCALENDAR
