BEGIN:VCALENDAR
VERSION:2.0
PRODID:-//Ludwigshafen WOW //NONSGML Events //EN
CALSCALE:GREGORIAN
X-WR-CALNAME:Ludwigshafen WOW
BEGIN:VTIMEZONE
TZID:Europe/Berlin
TZURL:http://tzurl.org/zoneinfo-outlook/Europe/Berlin
X-LIC-LOCATION:Europe/Berlin
BEGIN:STANDARD
TZOFFSETFROM:+0200
TZOFFSETTO:+0100
TZNAME:CET
DTSTART:19701025T030000
RRULE:FREQ=YEARLY;BYMONTH=10;BYDAY=-1SU
END:STANDARD
BEGIN:DAYLIGHT
TZOFFSETFROM:+0100
TZOFFSETTO:+0200
TZNAME:CEST
DTSTART:19700329T020000
RRULE:FREQ=YEARLY;BYMONTH=3;BYDAY=-1SU
END:DAYLIGHT
END:VTIMEZONE
BEGIN:VEVENT
TZID:Europe/Berlin
CREATED:20240420T070316
UID:33283
DTSTART;TZID=Europe/Berlin:20240420T193000
DTEND;TZID=Europe/Berlin:20240420T203000
DTSTAMP:20260420T101108
LOCATION:Theater im Pfalzbau\, Berliner Str. 30\, 67059 Ludwigshafen am Rhein
DESCRIPTION:Es ist ein Aufeinandertreffen der Frankfurter Art: Das Duo Sabine Fischmann/Michael Quast und das Ensemble Modern begegnen den weltbekannten höchstumstrittenen Geschichten Heinrich Hoffmanns! Die Neuvertonung durch Mitglieder des Ensemble Modern befördert den 175 Jahre alten Text mit viel Spaß und Temperament ins 21. Jahrhundert.Auf der Suche nach einem Bilderbuch für seinen Sohn fand der Arzt und Psychiater Heinrich Hoffmann im Dezember 1844 in den Frankfurter Buchläden nichts Passendes, nur „alberne Bildersammlungen, moralische Geschichten“. Kurzerhand schrieb und zeichnete er selbst und legte dem dreijährigen Kind fein gebunden eine Sammlung von zehn Kurzgeschichten unter den Weihnachtsbaum. Zappel-Philipp, Paulinchen, Hans Guck-in-die-Luft oder der Daumenlutscher Konrad erleben ziemlich drastische Abenteuer und über die Erziehungsmethoden bzw. Absichten des Autors wird noch heute in Pädagogikseminaren gestritten. Unzählige Adaptionen und Parodien zeugen von Ambivalenz und Vielfalt der Deutungsmöglichkeiten der Geschichten.Quelle: Theater im Pfalzbau.Von Heinrich HoffmannVolksbühne im Großen Hirschgraben / Ensemble ModernFrankfurtKomposition Uwe Dierksen, Christian Hommel, Herrmann Kretzschmar Inszenierung Matthias Faltz Dirigent Markus Neumeyer Musiker Ensemble Modern Gesang/Performance Sabine Fischmann und Michael QuastAusstattung Carsten Wolff  GROSSE BÜHNESA, 20.04.24, 19:30 UHR, COM 2, TG 1SO, 21.04.24, 14:30 UHR, SEN 2Preise 36 € / 31 € / 26 € / 21 €Familienpaket 97 € / 85 € / 69 € / 53 €Nachmittagsvorstellung 14:30 UHR Familienpaket65 €Dauer ca. 75 Minuten, keine Pause
SUMMARY:Der Struwwelpeter
ORGANIZER:ludwigshafen-wow
URL;VALUE=URI:https://ludwigshafen-wow.de/?p=33283
TRANSP:OPAQUE
BEGIN:VALARM
ACTION:DISPLAY
TRIGGER;TZID=Europe/Berlin:20240420T183000
DESCRIPTION:Reminder for Der Struwwelpeter
END:VALARM
END:VEVENT
END:VCALENDAR
