BEGIN:VCALENDAR
VERSION:2.0
PRODID:-//Ludwigshafen WOW //NONSGML Events //EN
CALSCALE:GREGORIAN
X-WR-CALNAME:Ludwigshafen WOW
BEGIN:VTIMEZONE
TZID:Europe/Berlin
TZURL:http://tzurl.org/zoneinfo-outlook/Europe/Berlin
X-LIC-LOCATION:Europe/Berlin
BEGIN:STANDARD
TZOFFSETFROM:+0200
TZOFFSETTO:+0100
TZNAME:CET
DTSTART:19701025T030000
RRULE:FREQ=YEARLY;BYMONTH=10;BYDAY=-1SU
END:STANDARD
BEGIN:DAYLIGHT
TZOFFSETFROM:+0100
TZOFFSETTO:+0200
TZNAME:CEST
DTSTART:19700329T020000
RRULE:FREQ=YEARLY;BYMONTH=3;BYDAY=-1SU
END:DAYLIGHT
END:VTIMEZONE
BEGIN:VEVENT
TZID:Europe/Berlin
CREATED:20240424T080146
UID:33289
DTSTART;TZID=Europe/Berlin:20240424T100000
DTEND;TZID=Europe/Berlin:20240424T110000
DTSTAMP:20260420T102441
LOCATION:Theater im Pfalzbau\, Berliner Str. 30\, 67059 Ludwigshafen am Rhein
DESCRIPTION:In SPLASH! dreht sich alles ums Wasser. Wasser als Quell des Lebens, mit dem wir urgewaltige Kraft, Schönheit und Faszination verbinden oder einfach nur Freude und sinnliches Vergnügen. Aber auch der sorglose Umgang mit dieser wertvollen Ressource ist Teil der Geschichte über das Wasser, die so untrennbar zu unserer eigenen gehört."Mit dem Einbeziehen der Kinder, einer mitreißenden Energie und einem respektvollen Umgang mit den Themen Klimawandel und Wasserknappheit hat sich das Theater Marabu aus Bonn mit seiner Inszenierung SPLASH! den ersten Preis des KUSS-Festivals 2023 in Marburg mehr als verdient. Wir sitzen alle im selben Boot. Niemand wird allein gelassen im ebenso verrückten wie harmonischen Geschehen, nicht nur auf der Bühne, sondern im ganzen Raum. Alle Formen des Wassers treffen auf all unsere Sinne. Wir dürfen nicht nur sehen und hören, wir dürfen fühlen. Dieses Gemeinschaftsgefühl hat nicht nur uns, die KUSS-Jury, sehr beeindruckt, das ganze Publikum war begeistert.“Quelle: Theater im Pfalzbau.Musik-Theater-PerformanceAb 7 JahrenTheater MarabuBonnInszenierung Tina Jücker, Claus OverkampAusstattung Katrin Lehmacher, Regina RösingSounddesign Tobias GubeschIn Kooperation mit Beethovenfest Bonn, Ruhrfestspiele Recklinghausen sowie der Hochschule für Musik und Tanz Köln und der Ruhr-Universität Bochum KLEINE BÜHNEMI, 24.04.24, 10:00 UHREinheitspreis 10 € / ermäßigt 6 €Dauer ca. 60 Minuten
SUMMARY:SPLASH!
ORGANIZER:ludwigshafen-wow
URL;VALUE=URI:https://ludwigshafen-wow.de/?p=33289
TRANSP:OPAQUE
BEGIN:VALARM
ACTION:DISPLAY
TRIGGER;TZID=Europe/Berlin:20240424T090000
DESCRIPTION:Reminder for SPLASH!
END:VALARM
END:VEVENT
END:VCALENDAR
