BEGIN:VCALENDAR
VERSION:2.0
PRODID:-//Ludwigshafen WOW //NONSGML Events //EN
CALSCALE:GREGORIAN
X-WR-CALNAME:Ludwigshafen WOW
BEGIN:VTIMEZONE
TZID:Europe/Berlin
TZURL:http://tzurl.org/zoneinfo-outlook/Europe/Berlin
X-LIC-LOCATION:Europe/Berlin
BEGIN:STANDARD
TZOFFSETFROM:+0200
TZOFFSETTO:+0100
TZNAME:CET
DTSTART:19701025T030000
RRULE:FREQ=YEARLY;BYMONTH=10;BYDAY=-1SU
END:STANDARD
BEGIN:DAYLIGHT
TZOFFSETFROM:+0100
TZOFFSETTO:+0200
TZNAME:CEST
DTSTART:19700329T020000
RRULE:FREQ=YEARLY;BYMONTH=3;BYDAY=-1SU
END:DAYLIGHT
END:VTIMEZONE
BEGIN:VEVENT
TZID:Europe/Berlin
CREATED:20240427T083700
UID:33299
DTSTART;TZID=Europe/Berlin:20240427T193000
DTEND;TZID=Europe/Berlin:20240427T203000
DTSTAMP:20260420T101117
LOCATION:Theater im Pfalzbau\, Berliner Str. 30\, 67059 Ludwigshafen am Rhein
DESCRIPTION:Seitdem sie mit ihrer Choreographie Hard to be Soft – A Belfast Prayer einen Volltreffer gelandet hat, in dem sie die nordirische Arbeiterklasse porträtiert, ist die Irin Oona Doherty der neue Shootingstar der Tanzszene. Mit Navy Blue hat sie sich zum zweiten Klavierkonzert von Sergej Rachmaninow in die tiefsten Tiefen der Verzweiflung und Depression begeben. Doch ebenso wie sich Rachmaninow durch die Komposition von jahrelanger künstlerischer Agonie befreit hat, zeigt auch Oona Doherty einen Tanz des Aufbegehrens.Passend zum Stücktitel bahnen sich die Tänzerinnen und Tänzer in blauer Arbeitskluft ihren Weg, ihre Körper scheinen sich nah am Abgrund zu bewegen, geprägt von Beklemmungen, Ängsten und Zwängen. Wenn Schüsse durch die Musik peitschen, schnürt das Ensemble ein Schutzbündel aus seinen Körpern. In dem düsteren Stück liegt eine diffuse Bedrohung in der Luft, die man auf den Gesichtern der Tanzenden ablesen kann, aber auch deren Willen zu überleben. Am Ende gibt es einen Hoffnungsschimmer, die Sehnsucht mündet in Trost und Fürsorge.Quelle: Theater im Pfalzbau.https://www.youtube.com/watch?v=PK2q1V-ug0ITanzstück von Oona DohertyOD WorksIrlandChoreographie Oona DohertyMusik Sergej Rachmaninow, Jamie xxVideo-Konzept Nadir BouassriaLichtdesign John GunningKostüme Oona Doherty und Lisa Marie BarryMit Amancio Gonzalez Miñon, Andréa Moufounda, Arno Brys, Kinda Gozo, Hilde Ingeborg Sandvold, Joseph Simon, Mathilde Roussin, Kevin Coquelard, Sati Veyrunes, Thibaut Eiferman, Tomer Pistiner, Zoé Lecorgne, Magdalena ÖttlIn Kooperation mit Kampnagel Hamburg, Sadler’s Wells London, Théâtre National de Chaillot Paris, La Biennale di Venezia, Belfast International Arts Festival, Tanz im August/HAU Hebbel am Ufer u.a. GROSSE BÜHNE SA, 27.04.24, 19:30 UHR, TT, WA, TTZPreise 36 € / 31 € / 26 € / 21 €Dauer ca. 1 Stunde
SUMMARY:Navy Blue
ORGANIZER:ludwigshafen-wow
URL;VALUE=URI:https://ludwigshafen-wow.de/?p=33299
TRANSP:OPAQUE
BEGIN:VALARM
ACTION:DISPLAY
TRIGGER;TZID=Europe/Berlin:20240427T183000
DESCRIPTION:Reminder for Navy Blue
END:VALARM
END:VEVENT
END:VCALENDAR
