BEGIN:VCALENDAR
VERSION:2.0
PRODID:-//Ludwigshafen WOW //NONSGML Events //EN
CALSCALE:GREGORIAN
X-WR-CALNAME:Ludwigshafen WOW
BEGIN:VTIMEZONE
TZID:Europe/Berlin
TZURL:http://tzurl.org/zoneinfo-outlook/Europe/Berlin
X-LIC-LOCATION:Europe/Berlin
BEGIN:STANDARD
TZOFFSETFROM:+0200
TZOFFSETTO:+0100
TZNAME:CET
DTSTART:19701025T030000
RRULE:FREQ=YEARLY;BYMONTH=10;BYDAY=-1SU
END:STANDARD
BEGIN:DAYLIGHT
TZOFFSETFROM:+0100
TZOFFSETTO:+0200
TZNAME:CEST
DTSTART:19700329T020000
RRULE:FREQ=YEARLY;BYMONTH=3;BYDAY=-1SU
END:DAYLIGHT
END:VTIMEZONE
BEGIN:VEVENT
TZID:Europe/Berlin
CREATED:20240430T091559
UID:33317
DTSTART;TZID=Europe/Berlin:20240430T193000
DTEND;TZID=Europe/Berlin:20240430T203000
DTSTAMP:20260420T101223
LOCATION:Theater im Pfalzbau\, Berliner Str. 30\, 67059 Ludwigshafen am Rhein
DESCRIPTION:Israel Galván ist einer der bedeutendsten Flamencotänzer, Niño de Elche Flamencosänger und Gitarrist. Beide eint eine unstillbare Energie, ihre Kunst zu hinterfragen, neu zu deuten, ja geradezu neu zu erfinden. Sie betreiben den Flamenco mit höchster Virtuosität und radikalem Avantgardismus. 2019 trafen sie erstmals aufeinander und entdeckten, wie sehr sie sich ähneln und befruchten.So entstand Mellizo Doble, eine faszinierende Begegnung von Stimme, Körper, Rhythmus und Persönlichkeit. Der klassische Flamenco ist die Basis ihres Dialogs, der vor allem dazu dient, die strenge Form der Tradition zu sprengen und zu einer befreiten Ausdrucksform zu finden. Einen schwarzen Raum und zwei Stühle, mehr braucht es nicht für diese leidenschaftliche, hochkonzentrierte Performance. Israel Galván und Niño de Elche erzeugen eine atemberaubende Spannung, eine künstlerische Verschmelzung von höchster Expressivität.Quelle: Theater im Pfalzbau.https://www.youtube.com/watch?v=sHub5_mfioMVon Heinrich HoffmannVolksbühne im Großen Hirschgraben / Ensemble ModernFrankfurtKomposition Uwe Dierksen, Christian Hommel, Herrmann Kretzschmar Inszenierung Matthias Faltz Dirigent Markus Neumeyer Musiker Ensemble Modern Gesang/Performance Sabine Fischmann und Michael QuastAusstattung Carsten Wolff  GROSSE BÜHNESA, 20.04.24, 19:30 UHR, COM 2, TG 1SO, 21.04.24, 14:30 UHR, SEN 2Preise 36 € / 31 € / 26 € / 21 €Familienpaket 97 € / 85 € / 69 € / 53 €Nachmittagsvorstellung 14:30 UHR Familienpaket65 €Dauer ca. 75 Minuten, keine Pause
SUMMARY:Mellizo Doble
ORGANIZER:ludwigshafen-wow
URL;VALUE=URI:https://ludwigshafen-wow.de/?p=33317
TRANSP:OPAQUE
BEGIN:VALARM
ACTION:DISPLAY
TRIGGER;TZID=Europe/Berlin:20240430T183000
DESCRIPTION:Reminder for Mellizo Doble
END:VALARM
END:VEVENT
END:VCALENDAR
