BEGIN:VCALENDAR
VERSION:2.0
PRODID:-//Ludwigshafen WOW //NONSGML Events //EN
CALSCALE:GREGORIAN
X-WR-CALNAME:Ludwigshafen WOW
BEGIN:VTIMEZONE
TZID:Europe/Berlin
TZURL:http://tzurl.org/zoneinfo-outlook/Europe/Berlin
X-LIC-LOCATION:Europe/Berlin
BEGIN:STANDARD
TZOFFSETFROM:+0200
TZOFFSETTO:+0100
TZNAME:CET
DTSTART:19701025T030000
RRULE:FREQ=YEARLY;BYMONTH=10;BYDAY=-1SU
END:STANDARD
BEGIN:DAYLIGHT
TZOFFSETFROM:+0100
TZOFFSETTO:+0200
TZNAME:CEST
DTSTART:19700329T020000
RRULE:FREQ=YEARLY;BYMONTH=3;BYDAY=-1SU
END:DAYLIGHT
END:VTIMEZONE
BEGIN:VEVENT
TZID:Europe/Berlin
CREATED:20240508T083300
UID:34635
DTSTART;TZID=Europe/Berlin:20240508T193000
DTEND;TZID=Europe/Berlin:20240508T203000
DTSTAMP:20260422T085801
LOCATION:Theater im Pfalzbau\, Berliner Str. 30\, 67059 Ludwigshafen am Rhein
DESCRIPTION:Mit einem zweiteiligen Abend, der dem berühmten Choreographen Merce Cunningham gewidmet ist, gastiert das Ballet de Lyon in Ludwigshafen. Die 1969 gegründete Compagnie versteht sich als weltoffenes Ensemble, das Choreographien vieler wichtiger internationaler Choreographen im Programm hat, aber auch den französischen Tanz pflegt. Von Trisha Brown über William Forsythe, Anne Teresa De Keersmaeker, Ohad Naharin bis zu Jiři Kylián finden sich die großen Vertreter des zeitgenössischen Tanzes im Repertoire.Gezeigt wird beim Gastspiel auf den Pfalzbau Bühnen die Choreographie Beach Birds von 1991, in der das Ensemble wie ein fröhlicher Vogelschwarm über die Bühne flattert. Das Stück Biped ist nach dem Komponisten Gavin Bryars benannt, dessen elegische Musik das Geschehen prägt. Die Tänzerinnen und Tänzer zeigen hinter einem Gazevorhang mit abstrakten Projektionen in glitzernden Bodys Gruppenszenen, Soli und Duette, in denen sich der Choreograph von einem Computerprogramm inspirieren lässt.Quelle: Theater im PfalzbauBeach Birds / BipedChoreographien von Merce CunninghamBallet de LyonFrankreichBeach BirdsChoreographie Merce CunninghamMusik John Cage FOURLichtdesign Marsha SkinnerKostüme Marsha SkinnerBipedChoreographie Merce CunninghamBühne und Hologramme Shelley Eshkar, Paul KaiserMusik Gavin Bryars © Schott Music GmbH & Co. KG.Lichtdesign Aaron CoppKostüme Suzanne GalloGROSSE BÜHNEMI, 08.05.24, 19:30 UHR, BR 1DO, 09.05.24, 19:30 UHR, AL 1, WA, TG 3Preise 55 € / 47 € / 39 € / 31 €Dauer ca. 1 Stunde 40 Minuten
SUMMARY:Merce Cunningham Forever. Beach Birds
ORGANIZER:ludwigshafen-wow
URL;VALUE=URI:https://ludwigshafen-wow.de/?p=34635
TRANSP:OPAQUE
BEGIN:VALARM
ACTION:DISPLAY
TRIGGER;TZID=Europe/Berlin:20240508T183000
DESCRIPTION:Reminder for Merce Cunningham Forever. Beach Birds
END:VALARM
END:VEVENT
END:VCALENDAR
