BEGIN:VCALENDAR
VERSION:2.0
PRODID:-//Ludwigshafen WOW //NONSGML Events //EN
CALSCALE:GREGORIAN
X-WR-CALNAME:Ludwigshafen WOW
BEGIN:VTIMEZONE
TZID:Europe/Berlin
TZURL:http://tzurl.org/zoneinfo-outlook/Europe/Berlin
X-LIC-LOCATION:Europe/Berlin
BEGIN:STANDARD
TZOFFSETFROM:+0200
TZOFFSETTO:+0100
TZNAME:CET
DTSTART:19701025T030000
RRULE:FREQ=YEARLY;BYMONTH=10;BYDAY=-1SU
END:STANDARD
BEGIN:DAYLIGHT
TZOFFSETFROM:+0100
TZOFFSETTO:+0200
TZNAME:CEST
DTSTART:19700329T020000
RRULE:FREQ=YEARLY;BYMONTH=3;BYDAY=-1SU
END:DAYLIGHT
END:VTIMEZONE
BEGIN:VEVENT
TZID:Europe/Berlin
CREATED:20240512T083900
UID:34646
DTSTART;TZID=Europe/Berlin:20240512T143000
DTEND;TZID=Europe/Berlin:20240512T153000
DTSTAMP:20260420T101017
LOCATION:Theater im Pfalzbau\, Berliner Str. 30\, 67059 Ludwigshafen am Rhein
DESCRIPTION:Diese mitreißende Show bietet das authentische Ambiente eines französischen Revuetheaters. Strass und Satin, Federboas und Korsetts, es fehlt an nichts. Die Musiknummern der Künstlerinnen erinnern an die leichten und lässigen Songs der Andrew Sisters, die Choreographien sind eine Verneigung vor der Tradition der Music-Halls und Variétes, wie sie bis in die 1940er Jahre existierten. Und zugleich offenbaren die drei Vilaines, zu deutsch die Unartigen, einen Blick hinter die Kulissen der Glitzerwelt. In ihrer Garderobe entspinnen sich pointierte, frivole und entwaffnend ehrliche Dialoge. Lili, Lou und Lea präsentieren als Showgirls ihre Körper, aber die wahre Intimität entsteht in den Pausen zwischen ihren Auftritten. Da entkleiden sie sich, indem sie ihr Seelenleben preisgeben. Les Vilaines vereinigt üppige Revueästhetik und weibliche Lebensphilosophie auf einzigartige Weise.Quelle: Theater im Pfalzbauhttps://www.youtube.com/watch?v=pDuZRrWMHuwDeutschlandpremiereRevuetheater von Guy und Elsa BontempelliIn französischer Sprache mit deutschen ÜbertitelnEL ProductionFrankreichInszenierung Elsa BontempelliMusik Mario SantangeliBühne Thierry RasamiarisoaKostüme Maïté WynsLicht Cloé LibereauMit Margaux Heller, Lucille Nemoz, Natalia Pujszo GROSSE BÜHNESA, 11.05.24, 19:30 UHR, COM 1, TG 4, TG 5SO, 12.05.24, 14:30 UHR, SEN 1Preise 36 € / 31 € / 26 € / 21 €Dauer ca. 1 Stunde 15 Minuten, keine Pause
SUMMARY:Die Ungezogenen. Les Vilaines
ORGANIZER:ludwigshafen-wow
URL;VALUE=URI:https://ludwigshafen-wow.de/?p=34646
TRANSP:OPAQUE
BEGIN:VALARM
ACTION:DISPLAY
TRIGGER;TZID=Europe/Berlin:20240512T133000
DESCRIPTION:Reminder for Die Ungezogenen. Les Vilaines
END:VALARM
END:VEVENT
END:VCALENDAR
