BEGIN:VCALENDAR
VERSION:2.0
PRODID:-//Ludwigshafen WOW //NONSGML Events //EN
CALSCALE:GREGORIAN
X-WR-CALNAME:Ludwigshafen WOW
BEGIN:VTIMEZONE
TZID:Europe/Berlin
TZURL:http://tzurl.org/zoneinfo-outlook/Europe/Berlin
X-LIC-LOCATION:Europe/Berlin
BEGIN:STANDARD
TZOFFSETFROM:+0200
TZOFFSETTO:+0100
TZNAME:CET
DTSTART:19701025T030000
RRULE:FREQ=YEARLY;BYMONTH=10;BYDAY=-1SU
END:STANDARD
BEGIN:DAYLIGHT
TZOFFSETFROM:+0100
TZOFFSETTO:+0200
TZNAME:CEST
DTSTART:19700329T020000
RRULE:FREQ=YEARLY;BYMONTH=3;BYDAY=-1SU
END:DAYLIGHT
END:VTIMEZONE
BEGIN:VEVENT
TZID:Europe/Berlin
CREATED:20240629T090800
UID:34685
DTSTART;TZID=Europe/Berlin:20240629T193000
DTEND;TZID=Europe/Berlin:20240629T203000
DTSTAMP:20260422T085758
LOCATION:Theater im Pfalzbau\, Berliner Str. 30\, 67059 Ludwigshafen am Rhein
DESCRIPTION:Eine urkomische Satire über Ökologie, die Zukunft unseres Planeten und das Überleben unserer eigenen Spezies:Die globale Erwärmung (zusätzlich zum exzessiven und missbräuchlichen Gebrauch von Plastik, zügellosem Konsum, der Auslöschung tausender von Tierarten und der möglichen Auslöschung von uns selbst …) ist der Ausgangspunkt dieser neuen theatralischen Verrücktheit von Yllana. Vier Schauspieler im Zustand der Gnade nehmen sich eines Themas an, das in aller Munde ist und spielen zahllose Charaktere vom Politiker bis zum Pinguin.Yllana hat ganz klar die Lösung für alle Probleme parat: bissiger, barrierefreier Humor, der niemanden gleichgültig lässt.Dem Ludwigshafener Publikum ist die spanische Blödelgruppe aus verschiedenen Aufführungen wohlbekannt. Zuletzt gastierte sie vor begeistertem Publikum mit ihrem Programm The Gagfathers.Quelle: Theater im PfalzbauTrailer:https://www.youtube.com/watch?v=Mzg-vxi2ivcDeutschlandpremiereEine öko-unlogische MesseCompagnie YllanaSpanienIdee, künstlerische Leitung YllanaSounddesign OelstudiosKostüme Tatiana de SarabiaRequisiten Gonzalo GaticaMit Fidel Fernández, Luis Cao, Juanfran Dorado, Jony Elías / Raul Cano Cano GROSSE BÜHNESA, 29.06.24, 19:30 UHR, COM 1, TG 3, TG 4SO, 30.06.24, 14:30 UHR, SEN 3Preise 36 € / 31 € / 26 € / 21 €
SUMMARY:Greenpiss
ORGANIZER:ludwigshafen-wow
URL;VALUE=URI:https://ludwigshafen-wow.de/?p=34685
TRANSP:OPAQUE
BEGIN:VALARM
ACTION:DISPLAY
TRIGGER;TZID=Europe/Berlin:20240629T183000
DESCRIPTION:Reminder for Greenpiss
END:VALARM
END:VEVENT
END:VCALENDAR
