BEGIN:VCALENDAR
VERSION:2.0
PRODID:-//Ludwigshafen WOW //NONSGML Events //EN
CALSCALE:GREGORIAN
X-WR-CALNAME:Ludwigshafen WOW
BEGIN:VTIMEZONE
TZID:Europe/Berlin
TZURL:http://tzurl.org/zoneinfo-outlook/Europe/Berlin
X-LIC-LOCATION:Europe/Berlin
BEGIN:STANDARD
TZOFFSETFROM:+0200
TZOFFSETTO:+0100
TZNAME:CET
DTSTART:19701025T030000
RRULE:FREQ=YEARLY;BYMONTH=10;BYDAY=-1SU
END:STANDARD
BEGIN:DAYLIGHT
TZOFFSETFROM:+0100
TZOFFSETTO:+0200
TZNAME:CEST
DTSTART:19700329T020000
RRULE:FREQ=YEARLY;BYMONTH=3;BYDAY=-1SU
END:DAYLIGHT
END:VTIMEZONE
BEGIN:VEVENT
TZID:Europe/Berlin
CREATED:20240614T092500
UID:34709
DTSTART;TZID=Europe/Berlin:20240614T193000
DTEND;TZID=Europe/Berlin:20240614T203000
DTSTAMP:20260420T101134
LOCATION:Theater im Pfalzbau\, Berliner Str. 30\, 67059 Ludwigshafen am Rhein
DESCRIPTION:Der Wissenschaftler Protassow kann sich nicht mit profanen Dingen wie dem Alltag beschäftigen. Er will den Fortschritt herbeiführen, chemikalisch und gedanklich. Nicht weniger als der endgültig befreiten Menschheit gilt all sein Wirken. So hat er weder ein Auge für die Witwe Melanija, die in verzweifelter Liebe zu ihm entbrannt ist, noch – und das ist schlimmer – für seine Frau, die sich einsam dem gemeinsamen Freund Wagin zuwendet. Auch die zarten Zeichen von Liebe zwischen seiner Schwester Lisa, die vom Anblick blutig niedergeschlagener Straßenunruhen seit Langem schwer traumatisiert ist, und dem moralisch derangierten Tierarzt Tschepurnoi entgehen ihm – ebenso wie die Katastrophe, die sich zwischen beiden anbahnt. Doch auf den Straßen grassiert die Cholera, es gibt Tote, und plötzlich wird die Luft im Elfenbeinturm gefährlich dünn.Maxim Gorki schrieb das Stück während seiner Haft in der Peter-und-Paul-Festung, in der u. a. auch Dostojewski einsaß. Entstanden angesichts des sogenannten Petersburger Blutsonntags, der die russische Revolution von 1905 einleiten sollte, entwirft Kinder der Sonne die tragikomische Bestandsaufnahme einer zutiefst gespaltenen Gesellschaft, die sich neu erfinden muss, wenn ihre Tage nicht gezählt sein sollen.„Das Casting ist so perfekt, dass geradezu jede einzelne Rolle noch einen Tick besser, dynamischer oder raffinierter besetzt ist, als man es sich beim Lesen vorstellt.“ nachtkritikHier gehts zur Audioeinführung!Quelle: Theater im Pfalzbau, Bild ©Matthias HornVon Maxim GorkiSchauspielhaus BochumEingeladen zum Berliner Theatertreffen 2023Inszenierung Mateja KoležnikBühne Raimund Orfeo VoigtKostüme Ana Savić-GecanSoundtrack Lukas TobiassenKlangestaltung Jordi ZoetLichtdesign Bernt FelderDramaturgie Angela ObstMit Anna Blomeier, Jele Brückner, Konstantin Bühler, Christoph Lux, Christian Paul, Taner Yen, Meral Pektaş, Marta Grabski, Tim Brockmann, Anna Trier, Guy Clemens, Dominik Dos-Reis, Victor Ijdens, Michael Lippold, Emily Lück, Karin Moog, Anne Rietmeijer, Alexander Wertmann, Amelie WillbergGROSSE BÜHNEFR, 14.06.24, 19:30 UHR, S 1, JA 1SA, 15.06.24, 19:30 UHR, S 2, TG 2Preise 41 € / 35 € / 29 € / 23 €Dauer ca. 1 Stunde 50 Minuten, keine Pause
SUMMARY:Kinder der Sonne
ORGANIZER:ludwigshafen-wow
URL;VALUE=URI:https://ludwigshafen-wow.de/?p=34709
TRANSP:OPAQUE
BEGIN:VALARM
ACTION:DISPLAY
TRIGGER;TZID=Europe/Berlin:20240614T183000
DESCRIPTION:Reminder for Kinder der Sonne
END:VALARM
END:VEVENT
END:VCALENDAR
