BEGIN:VCALENDAR
VERSION:2.0
PRODID:-//Ludwigshafen WOW //NONSGML Events //EN
CALSCALE:GREGORIAN
X-WR-CALNAME:Ludwigshafen WOW
BEGIN:VTIMEZONE
TZID:Europe/Berlin
TZURL:http://tzurl.org/zoneinfo-outlook/Europe/Berlin
X-LIC-LOCATION:Europe/Berlin
BEGIN:STANDARD
TZOFFSETFROM:+0200
TZOFFSETTO:+0100
TZNAME:CET
DTSTART:19701025T030000
RRULE:FREQ=YEARLY;BYMONTH=10;BYDAY=-1SU
END:STANDARD
BEGIN:DAYLIGHT
TZOFFSETFROM:+0100
TZOFFSETTO:+0200
TZNAME:CEST
DTSTART:19700329T020000
RRULE:FREQ=YEARLY;BYMONTH=3;BYDAY=-1SU
END:DAYLIGHT
END:VTIMEZONE
BEGIN:VEVENT
TZID:Europe/Berlin
CREATED:20240627T093000
UID:34720
DTSTART;TZID=Europe/Berlin:20240627T100000
DTEND;TZID=Europe/Berlin:20240627T110000
DTSTAMP:20260422T090656
LOCATION:Theater im Pfalzbau\, Berliner Str. 30\, 67059 Ludwigshafen am Rhein
DESCRIPTION:Lissi ist 16 und entflieht einem Leben, das von Angst und Sorge geprägt ist. Mit Rouge, Lippenstift und einer Kamera schafft sie es, mitten im Chaos nicht völlig durchzudrehen.Ihre Make-up-Tutorials sind beliebt, die Follower sind treue Fans. Sie zeigt, wie man mit einfachen Mitteln ein schickes Abend-Make-up zaubert und elegant die Wunden von Splitterbomben kaschiert. Mitten in einem Bürgerkrieg gelingt es ihr, dem Leben Schönheit und Würde abzugewinnen. Lissi will nicht tatenlos zusehen, wie andere über ihr Leben und ihr Glück bestimmen. Mit jedem Lidstrich kreiert sie einen Ort, an dem nur ihre eigenen Regeln gelten. Mit ihrer Stimme verschafft sie sich Gehör und nimmt dabei in Kauf, dass sie womöglich nicht jedem gefällt.„Und man selbst als Zuschauer*in reagiert umso verstörter und betroffener auf die Schrecken, in denen die Protagonistin leben muss. Oder ist das Ganze etwa doch nur ein ‚Fake‘, eine Inszenierung, Vorspiegelung einer falschen Identität, wie sie im Netz jederzeit möglich ist? Diese Doppelbödigkeit macht Goldzombies zu einem sehr heutigen, aufregenden Theaterstück.“ Begründung der Jury Baden-Württembergischer JugendtheaterpreisQuelle: Theater im PfalzabuHier gehts zum Trailer!https://www.theater-im-pfalzbau.de/Websites/www.theater-im-pfalzbau.de/dmail_upload/Trailer_GOLDZOMBIES_a0d7380f67_-_Compressed_with_FlexClip__1_.mp4Von Marisa WendtAb 14 JahrenJunge Ulmer BühneInszenierung Sven WisserAusstattung Günther BrendelDramaturgie Marek S. BednarskyMit Sina Baajour KLEINE BÜHNEDO, 27.06.24, 10:00 UHRPreise 10 € / ermäßigt 6 €
SUMMARY:Goldzombies
ORGANIZER:ludwigshafen-wow
URL;VALUE=URI:https://ludwigshafen-wow.de/?p=34720
TRANSP:OPAQUE
BEGIN:VALARM
ACTION:DISPLAY
TRIGGER;TZID=Europe/Berlin:20240627T090000
DESCRIPTION:Reminder for Goldzombies
END:VALARM
END:VEVENT
END:VCALENDAR
