BEGIN:VCALENDAR
VERSION:2.0
PRODID:-//Ludwigshafen WOW //NONSGML Events //EN
CALSCALE:GREGORIAN
X-WR-CALNAME:Ludwigshafen WOW
BEGIN:VTIMEZONE
TZID:Europe/Berlin
TZURL:http://tzurl.org/zoneinfo-outlook/Europe/Berlin
X-LIC-LOCATION:Europe/Berlin
BEGIN:STANDARD
TZOFFSETFROM:+0200
TZOFFSETTO:+0100
TZNAME:CET
DTSTART:19701025T030000
RRULE:FREQ=YEARLY;BYMONTH=10;BYDAY=-1SU
END:STANDARD
BEGIN:DAYLIGHT
TZOFFSETFROM:+0100
TZOFFSETTO:+0200
TZNAME:CEST
DTSTART:19700329T020000
RRULE:FREQ=YEARLY;BYMONTH=3;BYDAY=-1SU
END:DAYLIGHT
END:VTIMEZONE
BEGIN:VEVENT
TZID:Europe/Berlin
CREATED:20240711T093700
UID:34731
DTSTART;TZID=Europe/Berlin:20240711T180000
DTEND;TZID=Europe/Berlin:20240711T190000
DTSTAMP:20260420T102505
LOCATION:Theater im Pfalzbau\, Berliner Str. 30\, 67059 Ludwigshafen am Rhein
DESCRIPTION:Der spanische Infant Don Carlos liebt Elisabeth, die Frau seines Vaters – mit dieser Ehe zwischen dem spanischen König Philipp II. und der jungen französischen Prinzessin wurde der Frieden zwischen Spanien und Frankreich besiegelt. In seiner Verzweiflung vertraut sich Carlos seinem Freund Rodrigo, dem Marquis von Posa, an. Dieser rät ihm, den Hof zu verlassen und nach Flandern zu gehen, um sich dort für die Freiheit der von den spanischen Besatzern blutig unterdrückten Bevölkerung einzusetzen. Carlos wird zum Rebell gegen seinen Vater, den König, der in seinem politischen Handeln jedoch nur eine Marionette der Kirche ist.Mit Don Carlo greift Giuseppe Verdi zum vierten Mal ein Schauspiel von Friedrich Schiller für eine Oper auf. In großen Tableaus, aufwühlenden Orchesterfarben und leidenschaftlichen Arien zeichnet Verdi Schillers Ideendrama vom politischen Kampf um Freiheit, der mit dem um individuelle Liebe verwoben ist, eindrucksvoll nach.Quelle: Theater im PfalzbauOper in fünf Akten von Giuseppe VerdiDichtung von Joseph Méry und Camille du Locle nach Friedrich Schillers TrauerspielIn der italienischen Übersetzung von Achille de Lauzières und Angelo Zanardi In italienischer Sprache mit deutschen ÜbertitelnPfalztheater KaiserslauternMusikalische Leitung Daniele SqueoInszenierung Hendrik MüllerBühne Thomas DörflerKostüme Katharina Weißenborn GROSSE BÜHNEDO, 11.07.24, 18:00 UHR, MT, TG 1SA, 13.07.24, 18:00 UHR, AL 1, WA, TG 2Preise 47 € / 40 € / 33 € / 26 €
SUMMARY:Don Carlo
ORGANIZER:ludwigshafen-wow
URL;VALUE=URI:https://ludwigshafen-wow.de/?p=34731
TRANSP:OPAQUE
BEGIN:VALARM
ACTION:DISPLAY
TRIGGER;TZID=Europe/Berlin:20240711T170000
DESCRIPTION:Reminder for Don Carlo
END:VALARM
END:VEVENT
END:VCALENDAR
