BEGIN:VCALENDAR
VERSION:2.0
PRODID:-//Ludwigshafen WOW //NONSGML Events //EN
CALSCALE:GREGORIAN
X-WR-CALNAME:Ludwigshafen WOW
BEGIN:VTIMEZONE
TZID:Europe/Berlin
TZURL:http://tzurl.org/zoneinfo-outlook/Europe/Berlin
X-LIC-LOCATION:Europe/Berlin
BEGIN:STANDARD
TZOFFSETFROM:+0200
TZOFFSETTO:+0100
TZNAME:CET
DTSTART:19701025T030000
RRULE:FREQ=YEARLY;BYMONTH=10;BYDAY=-1SU
END:STANDARD
BEGIN:DAYLIGHT
TZOFFSETFROM:+0100
TZOFFSETTO:+0200
TZNAME:CEST
DTSTART:19700329T020000
RRULE:FREQ=YEARLY;BYMONTH=3;BYDAY=-1SU
END:DAYLIGHT
END:VTIMEZONE
BEGIN:VEVENT
TZID:Europe/Berlin
CREATED:20240706T094800
UID:34756
DTSTART;TZID=Europe/Berlin:20240706T193000
DTEND;TZID=Europe/Berlin:20240706T203000
DTSTAMP:20260422T085827
LOCATION:Theater im Pfalzbau\, Berliner Str. 30\, 67059 Ludwigshafen am Rhein
DESCRIPTION:Im Örtchen Anatevka in der Nähe von Kiew leben der gemütliche Milchmann Tevje und seine fünf widerspenstigen, freiheitsliebenden Töchter. Nach der Tradition sucht der Vater über eine Heiratsvermittlerin den passenden Gatten aus, doch da hat er die Rechnung ohne die selbstbewussten jungen Frauen gemacht. Eine nach der anderen widersetzt sich den väterlichen Vorstellungen und sucht sich den geliebten Ehemann nach ihren eigenen Wünschen aus. Zunächst erlebt man die privaten Verwicklungen und turbulenten Ereignisse vor dörflichem Lokalkolorit, doch schon bald wird die unsichere Lebenssituation der jüdischen Bevölkerung von Anatevka deutlich. Die ländliche Idylle wird abrupt durch ein Pogrom beendet, die Familie zerschlägt sich in alle Winde.Der Musicalklassiker bietet neben vielfältigen Melodien zwischen Tanzstücken, rituellen und melancholischen Motiven mit Anklängen an jüdische Musik eine Parabel auf die Idee von Heimat, Identität und die Bedeutung von Ritualen. Sie erzählt vom Erwachsenwerden und von Generationenkonflikten. Die Texte Scholem Alejchems, eines der Begründer moderner jiddischer Literatur, unterstreicht die Zerbrechlichkeit des friedlichen Zusammenlebens.Quelle: Theater im PfalzbauHier gehts zum Trailer!https://www.youtube.com/watch?v=OGGqdSdKx6YMusical von Jerry BockBasierend auf den Geschichten von Scholem AlejchemMit ausdrücklicher Genehmigung von Arnold PerlBuch Joseph SteinGesangstexte Sheldon HarnickDeutsch Rolf Merz und Gerhard HagenStaatstheater SaarbrückenMusikalische Leitung Nathan BlairInszenierung Gil MehmertBühne Jens KilianKostüme Claudio PohleChoreographie Bart De ClercqLicht Karl WiedemannIn Koproduktion mit Les Théâtres de la Ville de LuxembourgGROSSE BÜHNESA, 06.07.24, 19:30 UHR, COM 2, TG 5SO, 07.07.24, 18:00 UHR, AL 2, WA, TG 6MO, 08.07.24, 14:30 UHR, SEN 3Preise 41 € / 35 € / 29 € / 23 €
SUMMARY:Anatevka. Fiddler on the Roof
ORGANIZER:ludwigshafen-wow
URL;VALUE=URI:https://ludwigshafen-wow.de/?p=34756
TRANSP:OPAQUE
BEGIN:VALARM
ACTION:DISPLAY
TRIGGER;TZID=Europe/Berlin:20240706T183000
DESCRIPTION:Reminder for Anatevka. Fiddler on the Roof
END:VALARM
END:VEVENT
END:VCALENDAR
