BEGIN:VCALENDAR
VERSION:2.0
PRODID:-//Ludwigshafen WOW //NONSGML Events //EN
CALSCALE:GREGORIAN
X-WR-CALNAME:Ludwigshafen WOW
BEGIN:VTIMEZONE
TZID:Europe/Berlin
TZURL:http://tzurl.org/zoneinfo-outlook/Europe/Berlin
X-LIC-LOCATION:Europe/Berlin
BEGIN:STANDARD
TZOFFSETFROM:+0200
TZOFFSETTO:+0100
TZNAME:CET
DTSTART:19701025T030000
RRULE:FREQ=YEARLY;BYMONTH=10;BYDAY=-1SU
END:STANDARD
BEGIN:DAYLIGHT
TZOFFSETFROM:+0100
TZOFFSETTO:+0200
TZNAME:CEST
DTSTART:19700329T020000
RRULE:FREQ=YEARLY;BYMONTH=3;BYDAY=-1SU
END:DAYLIGHT
END:VTIMEZONE
BEGIN:VEVENT
TZID:Europe/Berlin
CREATED:20241002T102200
UID:38643
DTSTART;TZID=Europe/Berlin:20241002T200000
DTEND;TZID=Europe/Berlin:20241002T210000
DTSTAMP:20260420T112902
LOCATION:BASF-Feierabendhaus\, Leuschnerstraße 47\, 67063 Ludwigshafen am Rhein
DESCRIPTION:Nduduzo Makhathini, KlavierVijay Iyer, Klavier Nduduzo Makhathini gilt als Repräsentant eines neuen afrikanischen Selbstbewusstseins im Jazz und zählt zu den wichtigsten Stimmen seiner Generation. Ihm wurde die Ehre zuteil,  das erste Album für das Sublabel Blue Note Africa einzuspielen. Mit seinem jüngsten Album landete er auch hierzulande auf der Bestenliste für den Preis der deutschen Schallplattenkritik. Der Spiegel, die Süddeutsche Zeitung und der Rolling Stone widmeten ihm ausführliche Artikel. Nduduzo Makhathini ist nicht nur Musiker. Er ist Akademiker, Intellektueller, Musikimpresario – und Heiler. Spiritualität ist die Kraft, aus der er seine Energie für sein Spiel bezieht. Denn afrikanischer Jazz ist für ihn mehr als improvisierte Musik. Er ist für ihn eine Form der Dekolonialisierung. Wie Makhathini wird auch Vijay lyer nicht weniger als die Erneuerung des Jazz zugetraut. Und ähnlich wie der Südafrikaner verfolgt auch der in Amerika geborene Sohn indischer Einwanderer einen universellen Ansatz. Iyer studierte Mathematik und Physik, beschäftigte sich mit Neurowissenschaften und promovierte mit einer Arbeit über den Zusammenhang von Denken und musikalischen Rhythmen. Als Jazzmusiker dagegen ist Iyer Autodidakt. Ein Pianist, der sich sein Können jenseits der Lehrpläne der Hochschulen erarbeitet hat und dessen Spiel schon deshalb nie in Gefahr geriet, in floskelhafte Routine abzugleiten. Quelle: BASF-Feierabendhaus, Bild ©Arthur Dlamini  ZU DEN TICKETS 
SUMMARY:Eröffnungskonzert: Nduduzo Makhathini & Vijay Iyer
ORGANIZER:ludwigshafen-wow
URL;VALUE=URI:https://ludwigshafen-wow.de/?p=38643
TRANSP:OPAQUE
BEGIN:VALARM
ACTION:DISPLAY
TRIGGER;TZID=Europe/Berlin:20241002T190000
DESCRIPTION:Reminder for Eröffnungskonzert: Nduduzo Makhathini &amp\; Vijay Iyer
END:VALARM
END:VEVENT
END:VCALENDAR
