BEGIN:VCALENDAR
VERSION:2.0
PRODID:-//Ludwigshafen WOW //NONSGML Events //EN
CALSCALE:GREGORIAN
X-WR-CALNAME:Ludwigshafen WOW
BEGIN:VTIMEZONE
TZID:Europe/Berlin
TZURL:http://tzurl.org/zoneinfo-outlook/Europe/Berlin
X-LIC-LOCATION:Europe/Berlin
BEGIN:STANDARD
TZOFFSETFROM:+0200
TZOFFSETTO:+0100
TZNAME:CET
DTSTART:19701025T030000
RRULE:FREQ=YEARLY;BYMONTH=10;BYDAY=-1SU
END:STANDARD
BEGIN:DAYLIGHT
TZOFFSETFROM:+0100
TZOFFSETTO:+0200
TZNAME:CEST
DTSTART:19700329T020000
RRULE:FREQ=YEARLY;BYMONTH=3;BYDAY=-1SU
END:DAYLIGHT
END:VTIMEZONE
BEGIN:VEVENT
TZID:Europe/Berlin
CREATED:20241025T095500
UID:38876
DTSTART;TZID=Europe/Berlin:20241025T200000
DTEND;TZID=Europe/Berlin:20241025T210000
DTSTAMP:20260422T101001
LOCATION:BASF-Feierabendhaus\, Leuschnerstraße 47\, 67063 Ludwigshafen am Rhein
DESCRIPTION:„Die beste Jazzsängerin der letzten Dekade“ (New York Times) kehrt 2024 zurück auf die deutsche Live-Bühne!Cécile McLorin Salvant - VocalsSullivan Fortner - KlavierYasushi Nakama - KontrabassKyle Poole - SchlagzeugEine alte Seele mit futuristischen Ambitionen und einer so aktuellen Stimme, dass sie Raum und Zeit überwinden kann – das ist Cécile McLorin Salvant. Mit Lobeshymnen, Spitzenplätzen bei Wettbewerben und auf Kritikerlisten, Grammys und geldschweren Preisen gesegnet, galt die 34-jährige Sängerin dem Spiegel als „Erbin von Billie Holiday“ und war für die New York Times einfach „die beste Jazzsängerin der letzten Dekade“.Vor allem im Konzert zieht Cécile McLorin Salvant das Publikum in ihren Bann – mal überschwänglich, im nächsten Moment sinnlich sanft. Sie brilliert auf Festivalbühnen mit ihrer sensiblen Power-Band oder auch barfuß, unverstärkt und a cappella in der Elbphilharmonie – immer mit dieser entwaffnend ehrlichen Mischung aus Leiden und Glücksgefühlen, die Cécile McLorin Salvant ausmacht. Niemand, der sie live erlebt, bleibt unberührt.Mit ihrer hochkarätigen Band, oft mit dem Pianisten Sullivan Fortner oder Perkussionist Weedie Braimah an ihrer Seite, überzeugt sie weltweit ihre Zuhörerschaft. Erst neulich, als sie beim Edinburgh Festival auftrat, schrieb ein Kritiker: „Dies wird eine kurze Rezension. Tatsächlich bin ich versucht, das Wort „sensationell“ zu schreiben und es dabei zu belassen.“Quelle: BASF Bild ©Karolin Kaminskas  ZU DEN TICKETS 
SUMMARY:Cécile McLorin Salvant
ORGANIZER:ludwigshafen-wow
URL;VALUE=URI:https://ludwigshafen-wow.de/?p=38876
TRANSP:OPAQUE
BEGIN:VALARM
ACTION:DISPLAY
TRIGGER;TZID=Europe/Berlin:20241025T190000
DESCRIPTION:Reminder for Cécile McLorin Salvant
END:VALARM
END:VEVENT
END:VCALENDAR
