BEGIN:VCALENDAR
VERSION:2.0
PRODID:-//Ludwigshafen WOW //NONSGML Events //EN
CALSCALE:GREGORIAN
X-WR-CALNAME:Ludwigshafen WOW
BEGIN:VTIMEZONE
TZID:Europe/Berlin
TZURL:http://tzurl.org/zoneinfo-outlook/Europe/Berlin
X-LIC-LOCATION:Europe/Berlin
BEGIN:STANDARD
TZOFFSETFROM:+0200
TZOFFSETTO:+0100
TZNAME:CET
DTSTART:19701025T030000
RRULE:FREQ=YEARLY;BYMONTH=10;BYDAY=-1SU
END:STANDARD
BEGIN:DAYLIGHT
TZOFFSETFROM:+0100
TZOFFSETTO:+0200
TZNAME:CEST
DTSTART:19700329T020000
RRULE:FREQ=YEARLY;BYMONTH=3;BYDAY=-1SU
END:DAYLIGHT
END:VTIMEZONE
BEGIN:VEVENT
TZID:Europe/Berlin
CREATED:20241027T111300
UID:38891
DTSTART;TZID=Europe/Berlin:20241027T200000
DTEND;TZID=Europe/Berlin:20241027T210000
DTSTAMP:20260420T102520
LOCATION:BASF-Feierabendhaus\, Leuschnerstraße 47\, 67063 Ludwigshafen am Rhein
DESCRIPTION:Karl Bartos, Musik, Elektronik, SounddesignMathias Black, Klangregie, Technische LeitungIn Kooperation mit dem Internationalen Filmfestival Mannheim-HeidelbergAls ehemaliges Mitglied von Kraftwerk ist Karl Bartos Teil der Musikgeschichte des 20. Jahrhunderts. Die Düsseldorfer Kultband war ein Pionier des Elektropop, als einzige deutsche Gruppe überhaupt wurde sie aufgenommen in die Rock’n’Roll Hall of Fame.Karl Bartos aber pflegt noch eine weitere Leidenschaft. Seit fast 20 Jahren beschäftigt sich der klassisch ausgebildete Musiker mit dem ersten Psychothriller der Filmgeschichte: „Das Cabinet des Dr. Caligari“. Bartos hat Robert Wienes Stummfilmklassiker aus dem Jahr 1920 ein neues Klanggewand verpasst. Bei der Aufführung im BASF-Feierabendhaus trifft die digital restaurierte Fassung des Films in 4K auf die experimentelle Ebene von Bartos‘ Musik, die auf der Bühne live und punktsynchron gesteuert wird.Quelle: BASF, Bild ©Friedrich-Wilhelm-Murnau-Stiftung  ZU DEN TICKETS 
SUMMARY:Das Cabinet des Dr. Caligari
ORGANIZER:ludwigshafen-wow
URL;VALUE=URI:https://ludwigshafen-wow.de/?p=38891
TRANSP:OPAQUE
BEGIN:VALARM
ACTION:DISPLAY
TRIGGER;TZID=Europe/Berlin:20241027T190000
DESCRIPTION:Reminder for Das Cabinet des Dr. Caligari
END:VALARM
END:VEVENT
END:VCALENDAR
