BEGIN:VCALENDAR
VERSION:2.0
PRODID:-//Ludwigshafen WOW //NONSGML Events //EN
CALSCALE:GREGORIAN
X-WR-CALNAME:Ludwigshafen WOW
BEGIN:VTIMEZONE
TZID:Europe/Berlin
TZURL:http://tzurl.org/zoneinfo-outlook/Europe/Berlin
X-LIC-LOCATION:Europe/Berlin
BEGIN:STANDARD
TZOFFSETFROM:+0200
TZOFFSETTO:+0100
TZNAME:CET
DTSTART:19701025T030000
RRULE:FREQ=YEARLY;BYMONTH=10;BYDAY=-1SU
END:STANDARD
BEGIN:DAYLIGHT
TZOFFSETFROM:+0100
TZOFFSETTO:+0200
TZNAME:CEST
DTSTART:19700329T020000
RRULE:FREQ=YEARLY;BYMONTH=3;BYDAY=-1SU
END:DAYLIGHT
END:VTIMEZONE
BEGIN:VEVENT
TZID:Europe/Berlin
CREATED:20241102T114400
UID:38904
DTSTART;TZID=Europe/Berlin:20241102T150000
DTEND;TZID=Europe/Berlin:20241102T160000
DTSTAMP:20260422T101001
LOCATION:
DESCRIPTION:Maurice Steger, BlockflöteJuri Tetzlaff, ErzählerJolanda Steiner, TextI musici de La Cetra Kids-Konzert (geeignet für Kinder zwischen 6 und 10 Jahren)Eines Tages sitzt Tino Flautino im Schlossgarten, als ihm der Wind drei Blätter Papier mit Noten zuweht. Es sind wunderschöne Noten. Aber es gibt ein Problem: Das Stück, das Tino so gut gefällt, hat kein Ende. Ein Blatt scheint zu fehlen. Und weil Tino ganz begeistert von den Klängen ist, macht er sich kurzerhand auf die Suche. Unter anderem reist er quer durch Deutschland, wo er einem Mann namens Johann Sebastian Bach begegnet – aber von ihm stammt die Musik leider nicht. Und auch in London und Venedig, wo Tino ebenfalls Komponisten trifft, hat er keinen Erfolg. Weiter geht es nach Neapel, wo er den Kater Leo Leonardo kennenlernt – und da passiert etwas Wunderbares … Quelle: BASF Bild ©Molina Visuals  ZU DEN TICKETS 
SUMMARY:Tino Flautino und der Kater Leo Leonardo
ORGANIZER:ludwigshafen-wow
URL;VALUE=URI:https://ludwigshafen-wow.de/?p=38904
TRANSP:OPAQUE
BEGIN:VALARM
ACTION:DISPLAY
TRIGGER;TZID=Europe/Berlin:20241102T140000
DESCRIPTION:Reminder for Tino Flautino und der Kater Leo Leonardo
END:VALARM
END:VEVENT
END:VCALENDAR
