BEGIN:VCALENDAR
VERSION:2.0
PRODID:-//Ludwigshafen WOW //NONSGML Events //EN
CALSCALE:GREGORIAN
X-WR-CALNAME:Ludwigshafen WOW
BEGIN:VTIMEZONE
TZID:Europe/Berlin
TZURL:http://tzurl.org/zoneinfo-outlook/Europe/Berlin
X-LIC-LOCATION:Europe/Berlin
BEGIN:STANDARD
TZOFFSETFROM:+0200
TZOFFSETTO:+0100
TZNAME:CET
DTSTART:19701025T030000
RRULE:FREQ=YEARLY;BYMONTH=10;BYDAY=-1SU
END:STANDARD
BEGIN:DAYLIGHT
TZOFFSETFROM:+0100
TZOFFSETTO:+0200
TZNAME:CEST
DTSTART:19700329T020000
RRULE:FREQ=YEARLY;BYMONTH=3;BYDAY=-1SU
END:DAYLIGHT
END:VTIMEZONE
BEGIN:VEVENT
TZID:Europe/Berlin
CREATED:20241113T142400
UID:38910
DTSTART;TZID=Europe/Berlin:20241113T193000
DTEND;TZID=Europe/Berlin:20241113T203000
DTSTAMP:20260422T090830
LOCATION:BASF-Feierabendhaus\, Leuschnerstraße 47\, 67063 Ludwigshafen am Rhein
DESCRIPTION:Raphaela Gromes, VioloncelloNational State Symphony Orchestra of the UkraineVolodymyr Sirenko, LeitungProgramm:  Dmitry Bortniansky: Ouvertüre C-Dur zur Oper „Il Quinto Fabio“Antonín Dvořák: Cellokonzert h-Moll op. 104 · Sinfonie Nr. 9 e-Moll op. 95 „Aus der Neuen Welt“18.30 Uhr KonzerteinführungDie Einführungsveranstaltung ist für Karteninhaber im Preis inbegriffen. Begrenzte Platzwahl.Was die „Zauberflöte“ für die Welt der Oper oder „Schwanensee“ für das Ballett, das ist die „Sinfonie aus der Neuen Welt“ für den Konzertsaal – ein unverzichtbarer Bestandteil auf den Spielplänen der Orchester weltweit, der auch als Filmmusik Verwendung fand und auf keiner Playlist mit den beliebtesten Werken klassischer Musik fehlen darf. Neben diesem Meilenstein der Musikgeschichte ist dem Komponisten Antonín Dvořák mit dem Cellokonzert ein weiterer großer Wurf während seines dreijährigen Aufenthalts in Amerika gelungen. Den Solopart übernimmt Raphaela Gromes, die 2023 bereits in der Kammermusikreihe zu begeistern wusste und nun gemeinsam mit dem National State Symphony Orchestra of the Ukraine nach Ludwigshafen zurückkehrt.Quelle: BASF Bild ©Wild und Leise  ZU DEN TICKETS 
SUMMARY:Raphaela Gromes
ORGANIZER:ludwigshafen-wow
URL;VALUE=URI:https://ludwigshafen-wow.de/?p=38910
TRANSP:OPAQUE
BEGIN:VALARM
ACTION:DISPLAY
TRIGGER;TZID=Europe/Berlin:20241113T183000
DESCRIPTION:Reminder for Raphaela Gromes
END:VALARM
END:VEVENT
END:VCALENDAR
