BEGIN:VCALENDAR
VERSION:2.0
PRODID:-//Ludwigshafen WOW //NONSGML Events //EN
CALSCALE:GREGORIAN
X-WR-CALNAME:Ludwigshafen WOW
BEGIN:VTIMEZONE
TZID:Europe/Berlin
TZURL:http://tzurl.org/zoneinfo-outlook/Europe/Berlin
X-LIC-LOCATION:Europe/Berlin
BEGIN:STANDARD
TZOFFSETFROM:+0200
TZOFFSETTO:+0100
TZNAME:CET
DTSTART:19701025T030000
RRULE:FREQ=YEARLY;BYMONTH=10;BYDAY=-1SU
END:STANDARD
BEGIN:DAYLIGHT
TZOFFSETFROM:+0100
TZOFFSETTO:+0200
TZNAME:CEST
DTSTART:19700329T020000
RRULE:FREQ=YEARLY;BYMONTH=3;BYDAY=-1SU
END:DAYLIGHT
END:VTIMEZONE
BEGIN:VEVENT
TZID:Europe/Berlin
CREATED:20241122T231600
UID:38938
DTSTART;TZID=Europe/Berlin:20241123T200000
DTEND;TZID=Europe/Berlin:20241123T210000
DTSTAMP:20260420T102607
LOCATION:BASF-Feierabendhaus\, Leuschnerstraße 47\, 67063 Ludwigshafen am Rhein
DESCRIPTION:Ballaké Sissoko, Kora Vincent Ségal, VioloncelloVincent Peirani, Akkordeon Émile Parisien, Saxofon Alles begann mit einem Gipfeltreffen. Im Juni 2019 begegneten sich bei einem Festival hoch oben auf einem Hügel mit Blick über Lyon zwei außergewöhnliche Duos, die für Genre-Experimente und deren Überschreitungen stehen. Der führende afrikanische Kora-Spieler Ballaké Sissoko und der Cellist Vincent Ségal auf der einen, der Akkordeonist Vincent Peirani und der Sopransaxofonist Émile Parisien auf der anderen Seite. Sie begannen des Vergnügens willen zu jammen und von den ersten Tönen an war alles in Bewegung. Zwei plus zwei machte in diesem Fall eins. Und so kamen diejenigen, die sich verirrt haben – „Les Égarés“ – zu einer Einheit zusammen und formten von nun an ein Quartett, aus dem ein einziger, fließender Klang entspringt. „Les Égarés“ ist weder reiner Jazz noch ausschließlich traditionelle Volksmusik, weder Kammermusik noch Avantgarde. „Les Égarés“ ist von allem etwas und alles auf einmal. Vier inspirierte Künstler beseelt von dem Wunsch, sich in der Musik zu unterhalten, verloren in der Schönheit des gemeinsamen Musizierens. Quelle: BASF BildBallaké Sissoko, Kora Vincent Ségal, VioloncelloVincent Peirani, Akkordeon Émile Parisien, Saxofon Alles begann mit einem Gipfeltreffen. Im Juni 2019 begegneten sich bei einem Festival hoch oben auf einem Hügel mit Blick über Lyon zwei außergewöhnliche Duos, die für Genre-Experimente und deren Überschreitungen stehen. Der führende afrikanische Kora-Spieler Ballaké Sissoko und der Cellist Vincent Ségal auf der einen, der Akkordeonist Vincent Peirani und der Sopransaxofonist Émile Parisien auf der anderen Seite. Sie begannen des Vergnügens willen zu jammen und von den ersten Tönen an war alles in Bewegung. Zwei plus zwei machte in diesem Fall eins. Und so kamen diejenigen, die sich verirrt haben – „Les Égarés“ – zu einer Einheit zusammen und formten von nun an ein Quartett, aus dem ein einziger, fließender Klang entspringt. „Les Égarés“ ist weder reiner Jazz noch ausschließlich traditionelle Volksmusik, weder Kammermusik noch Avantgarde. „Les Égarés“ ist von allem etwas und alles auf einmal. Vier inspirierte Künstler beseelt von dem Wunsch, sich in der Musik zu unterhalten, verloren in der Schönheit des gemeinsamen Musizierens. Quelle: BASF Bild ©Gassian Image  ZU DEN TICKETS 
SUMMARY:Enjoy Jazz Encore – „Les Égarés“
ORGANIZER:ludwigshafen-wow
URL;VALUE=URI:https://ludwigshafen-wow.de/?p=38938
TRANSP:OPAQUE
BEGIN:VALARM
ACTION:DISPLAY
TRIGGER;TZID=Europe/Berlin:20241123T190000
DESCRIPTION:Reminder for Enjoy Jazz Encore &#8211\; &#8222\;Les Égarés&#8220\;
END:VALARM
END:VEVENT
END:VCALENDAR
