BEGIN:VCALENDAR
VERSION:2.0
PRODID:-//Ludwigshafen WOW //NONSGML Events //EN
CALSCALE:GREGORIAN
X-WR-CALNAME:Ludwigshafen WOW
BEGIN:VTIMEZONE
TZID:Europe/Berlin
TZURL:http://tzurl.org/zoneinfo-outlook/Europe/Berlin
X-LIC-LOCATION:Europe/Berlin
BEGIN:STANDARD
TZOFFSETFROM:+0200
TZOFFSETTO:+0100
TZNAME:CET
DTSTART:19701025T030000
RRULE:FREQ=YEARLY;BYMONTH=10;BYDAY=-1SU
END:STANDARD
BEGIN:DAYLIGHT
TZOFFSETFROM:+0100
TZOFFSETTO:+0200
TZNAME:CEST
DTSTART:19700329T020000
RRULE:FREQ=YEARLY;BYMONTH=3;BYDAY=-1SU
END:DAYLIGHT
END:VTIMEZONE
BEGIN:VEVENT
TZID:Europe/Berlin
CREATED:20241102T232600
UID:38944
DTSTART;TZID=Europe/Berlin:20241103T110000
DTEND;TZID=Europe/Berlin:20241103T120000
DTSTAMP:20260422T101123
LOCATION:
DESCRIPTION:Maurice Steger, BlockflöteLa Cetra Barockorchester Basel Programm: Werke von Johann Sebastian Bach und Georg Philipp Telemann Auf der zweiten Station seines Porträts taucht der in Winterthur geborene Künstler und Leiter der Blockflötenfesttage Bad Kissingen ganz tief ein in sein Spezialgebiet – die Instrumentalmusik des 18. Jahrhunderts. Dafür hat sich Maurice Steger einen ausgewiesenen Experten an die Seite geholt. Das La Cetra Barockorchester Basel, benannt nach dem Violinkonzert „La Cetra“, also „Die Leier“, von Antonio Vivaldi, zählt seit vielen Jahren zu den führenden Originalklangensembles. 2009 wurde ihm für seine Verdienste um die Historische Aufführungspraxis der Europäische Preis für Alte Musik verliehen. Im vertrauten Einklang widmen sich die Protagonisten dieses Konzerts mit Johann Sebastian Bach und Georg Philipp Telemann zwei deutschen Großmeistern der Barockepoche – und sorgen mit ihren mal fröhlichen, mal verspielten, aber stets erfrischenden Interpretationen für eine ansteckende Lebendigkeit.  Quelle: BASF Bild ©Molina Visuals  ZU DEN TICKETS 
SUMMARY:Bach trifft Telemann
ORGANIZER:ludwigshafen-wow
URL;VALUE=URI:https://ludwigshafen-wow.de/?p=38944
TRANSP:OPAQUE
BEGIN:VALARM
ACTION:DISPLAY
TRIGGER;TZID=Europe/Berlin:20241103T100000
DESCRIPTION:Reminder for Bach trifft Telemann
END:VALARM
END:VEVENT
END:VCALENDAR
