BEGIN:VCALENDAR
VERSION:2.0
PRODID:-//Ludwigshafen WOW //NONSGML Events //EN
CALSCALE:GREGORIAN
X-WR-CALNAME:Ludwigshafen WOW
BEGIN:VTIMEZONE
TZID:Europe/Berlin
TZURL:http://tzurl.org/zoneinfo-outlook/Europe/Berlin
X-LIC-LOCATION:Europe/Berlin
BEGIN:STANDARD
TZOFFSETFROM:+0200
TZOFFSETTO:+0100
TZNAME:CET
DTSTART:19701025T030000
RRULE:FREQ=YEARLY;BYMONTH=10;BYDAY=-1SU
END:STANDARD
BEGIN:DAYLIGHT
TZOFFSETFROM:+0100
TZOFFSETTO:+0200
TZNAME:CEST
DTSTART:19700329T020000
RRULE:FREQ=YEARLY;BYMONTH=3;BYDAY=-1SU
END:DAYLIGHT
END:VTIMEZONE
BEGIN:VEVENT
TZID:Europe/Berlin
CREATED:20241213T112500
UID:39032
DTSTART;TZID=Europe/Berlin:20241213T193000
DTEND;TZID=Europe/Berlin:20241213T203000
DTSTAMP:20260420T111757
LOCATION:BASF-Feierabendhaus\, Leuschnerstraße 47\, 67063 Ludwigshafen am Rhein
DESCRIPTION:Martina Gedeck, RezitationMaurice Steger, BlockflöteAvi Avital, MandolineHille Perl, Viola da GambaDavid Bergmüller, TheorbeSebastian Wienand, Cembalo Programm: Musik von Johann Sebastian Bach, Texte von Friedrich Hölderlin, Johann Wolfgang von Goethe, Immanuel Kant, Novalis, Lew Tolstoi und aus der Bibel18.30 Uhr KonzerteinführungDie Einführungsveranstaltung ist für Karteninhaber im Preis inbegriffen. Begrenzte Platzwahl.Ein echtes All-Star-Ensemble vereint das Programm „Bach und mehr“. Neben Maurice Steger zählen dazu unter anderen die Gambistin Hille Perl, eine Ikone der Alte-Musik-Szene, und der Mandolinist Avi Avital, vor drei Jahren seinerseits Porträtkünstler bei BASF. Auszüge aus Johann Sebastian Bachs Notenbüchlein für Anna Magdalena und Wilhelm Friedemann verbinden sich an diesem besonderen Abend mit Worten von Friedrich Hölderlin, Johann Wolfgang von Goethe, Immanuel Kant, Novalis, Lew Tolstoi und aus der Bibel zu einem stimmigen Gesamtbild. Rezitiert werden die im Spannungsfeld zwischen Glauben, Zweifel und Auflehnung angesiedelten Texte von Martina Gedeck. Seit vielen Jahren ist die Schauspielerin, die mit Filmen wie „Das Leben der Anderen“ oder „Die Wand“ auch international Erfolge feierte, eines der prägenden Gesichter unserer Zeit. Trotz ihrer zahlreichen Produktionen für Kino und Fernsehen nimmt das gemeinsame Konzertieren mit Musikern einen besonderen Platz in ihrem künstlerischen Schaffen ein. Als erfahrene und ausdrucksstarke Sprecherin gelingt es ihr wie kaum einer anderen Poesie mit Musik zu verbinden.Quelle: BASF BildMartina Gedeck, RezitationMaurice Steger, BlockflöteAvi Avital, MandolineHille Perl, Viola da GambaDavid Bergmüller, TheorbeSebastian Wienand, Cembalo Programm: Musik von Johann Sebastian Bach, Texte von Friedrich Hölderlin, Johann Wolfgang von Goethe, Immanuel Kant, Novalis, Lew Tolstoi und aus der Bibel18.30 Uhr KonzerteinführungDie Einführungsveranstaltung ist für Karteninhaber im Preis inbegriffen. Begrenzte Platzwahl.Ein echtes All-Star-Ensemble vereint das Programm „Bach und mehr“. Neben Maurice Steger zählen dazu unter anderen die Gambistin Hille Perl, eine Ikone der Alte-Musik-Szene, und der Mandolinist Avi Avital, vor drei Jahren seinerseits Porträtkünstler bei BASF. Auszüge aus Johann Sebastian Bachs Notenbüchlein für Anna Magdalena und Wilhelm Friedemann verbinden sich an diesem besonderen Abend mit Worten von Friedrich Hölderlin, Johann Wolfgang von Goethe, Immanuel Kant, Novalis, Lew Tolstoi und aus der Bibel zu einem stimmigen Gesamtbild. Rezitiert werden die im Spannungsfeld zwischen Glauben, Zweifel und Auflehnung angesiedelten Texte von Martina Gedeck. Seit vielen Jahren ist die Schauspielerin, die mit Filmen wie „Das Leben der Anderen“ oder „Die Wand“ auch international Erfolge feierte, eines der prägenden Gesichter unserer Zeit. Trotz ihrer zahlreichen Produktionen für Kino und Fernsehen nimmt das gemeinsame Konzertieren mit Musikern einen besonderen Platz in ihrem künstlerischen Schaffen ein. Als erfahrene und ausdrucksstarke Sprecherin gelingt es ihr wie kaum einer anderen Poesie mit Musik zu verbinden.Quelle: BASF Bild ©Karel Kühne  KONZERTMENÜ   ZU DEN TICKETS 
SUMMARY:Martina Gedeck
ORGANIZER:ludwigshafen-wow
URL;VALUE=URI:https://ludwigshafen-wow.de/?p=39032
TRANSP:OPAQUE
BEGIN:VALARM
ACTION:DISPLAY
TRIGGER;TZID=Europe/Berlin:20241213T183000
DESCRIPTION:Reminder for Martina Gedeck
END:VALARM
END:VEVENT
END:VCALENDAR
