BEGIN:VCALENDAR
VERSION:2.0
PRODID:-//Ludwigshafen WOW //NONSGML Events //EN
CALSCALE:GREGORIAN
X-WR-CALNAME:Ludwigshafen WOW
BEGIN:VTIMEZONE
TZID:Europe/Berlin
TZURL:http://tzurl.org/zoneinfo-outlook/Europe/Berlin
X-LIC-LOCATION:Europe/Berlin
BEGIN:STANDARD
TZOFFSETFROM:+0200
TZOFFSETTO:+0100
TZNAME:CET
DTSTART:19701025T030000
RRULE:FREQ=YEARLY;BYMONTH=10;BYDAY=-1SU
END:STANDARD
BEGIN:DAYLIGHT
TZOFFSETFROM:+0100
TZOFFSETTO:+0200
TZNAME:CEST
DTSTART:19700329T020000
RRULE:FREQ=YEARLY;BYMONTH=3;BYDAY=-1SU
END:DAYLIGHT
END:VTIMEZONE
BEGIN:VEVENT
TZID:Europe/Berlin
CREATED:20250119T134900
UID:39121
DTSTART;TZID=Europe/Berlin:20250119T110000
DTEND;TZID=Europe/Berlin:20250119T120000
DTSTAMP:20260422T220420
LOCATION:
DESCRIPTION:Isidore String QuartetProgramm: Wolfgang Amadeus Mozart: Streichquartett Nr.19 C-Dur KV 465 „Dissonanzen-Quartett“Billy Childs: Streichquartett Nr. 3 „Unrequited“Ludwig van Beethoven: Streichquartett Nr. 12 Es-Dur op. 127Mit dem Gewinn des wohl renommiertesten Wettbewerbs für Streichquartett im kanadischen Banff hat sich das Isidore String Quartet 2022 in die erste Liga der internationalen Musikszene katapultiert. Ein Jahr später setzten die Amerikaner mit dem Avery Fisher Career Grant, einer Auszeichnung für herausragende Instrumentalisten, diesem Erfolg die Krone auf. Dass die Vorschusslorbeeren berechtigt sind, beweist das Quartett bei seiner Premiere im BASF-Gesellschaftshaus. Neben Werken von Wolfgang Amadeus Mozart und Ludwig van Beethoven haben die vier New Yorker dabei auch ein Stück ihres Landmanns Billy Childs im Gepäck. Der fünffache Grammygewinner ist eigentlich im Jazz zu Hause und komponiert erst seit den 1990er-Jahren auch klassische Musik. Über mangelndes Interesse kann er sich dabei nicht beschweren, wie Auftragsarbeiten vom Kronos Quartett bis zum Los Angeles Philharmonic Orchestra beweisen. Quelle: BASF Bild ©Charles Chessler Image  ZU DEN TICKETS 
SUMMARY:Isidore String Quartet
ORGANIZER:ludwigshafen-wow
URL;VALUE=URI:https://ludwigshafen-wow.de/?p=39121
TRANSP:OPAQUE
BEGIN:VALARM
ACTION:DISPLAY
TRIGGER;TZID=Europe/Berlin:20250119T100000
DESCRIPTION:Reminder for Isidore String Quartet
END:VALARM
END:VEVENT
END:VCALENDAR
