BEGIN:VCALENDAR
VERSION:2.0
PRODID:-//Ludwigshafen WOW //NONSGML Events //EN
CALSCALE:GREGORIAN
X-WR-CALNAME:Ludwigshafen WOW
BEGIN:VTIMEZONE
TZID:Europe/Berlin
TZURL:http://tzurl.org/zoneinfo-outlook/Europe/Berlin
X-LIC-LOCATION:Europe/Berlin
BEGIN:STANDARD
TZOFFSETFROM:+0200
TZOFFSETTO:+0100
TZNAME:CET
DTSTART:19701025T030000
RRULE:FREQ=YEARLY;BYMONTH=10;BYDAY=-1SU
END:STANDARD
BEGIN:DAYLIGHT
TZOFFSETFROM:+0100
TZOFFSETTO:+0200
TZNAME:CEST
DTSTART:19700329T020000
RRULE:FREQ=YEARLY;BYMONTH=3;BYDAY=-1SU
END:DAYLIGHT
END:VTIMEZONE
BEGIN:VEVENT
TZID:Europe/Berlin
CREATED:20250404T100000
UID:39248
DTSTART;TZID=Europe/Berlin:20250404T200000
DTEND;TZID=Europe/Berlin:20250404T210000
DTSTAMP:20260422T112632
LOCATION:BASF-Feierabendhaus\, Leuschnerstraße 47\, 67063 Ludwigshafen am Rhein
DESCRIPTION:Wenn sich klassische Musiker mit Künstlern aus dem Rock- und Popgeschäft zusammentun, dann kann das ganz fürchterlich ins Auge gehen. Denn oft liegt der Fokus derartiger Projekte eher auf dem Geschäft, nicht auf der Musik. Wenn sich Mihalj Kekenj alias MIKI einen prominenten Sidekick einlädt, dann verbinden sich zwei unterschiedliche Welten zu etwas faszinierend Neuem, das gleichzeitig so vertraut klingt, dass man das eine nicht mehr ohne das andere denken kann. Der Grund für den Erfolg ist einfach: MIKI ist nicht nur Geiger und Dirigent, sondern mit mindestens ebensolcher Begeisterung und Leidenschaft Rapper, Sänger und Arrangeur. Und er sucht sich seine Mitstreiter ganz gezielt aus. Bei seinem dritten Gastspiel in Ludwigshafen steht an seiner Seite kein Geringerer als der Hamburger Kultrapper Samy Deluxe.Quelle: BASF Bild ©Jerome Hoffmeister  ZU DEN TICKETS 
SUMMARY:Samy Deluxe & MIKIs Takeover Ensemble
ORGANIZER:ludwigshafen-wow
URL;VALUE=URI:https://ludwigshafen-wow.de/?p=39248
TRANSP:OPAQUE
BEGIN:VALARM
ACTION:DISPLAY
TRIGGER;TZID=Europe/Berlin:20250404T190000
DESCRIPTION:Reminder for Samy Deluxe &amp\; MIKIs Takeover Ensemble
END:VALARM
END:VEVENT
END:VCALENDAR
