BEGIN:VCALENDAR
VERSION:2.0
PRODID:-//Ludwigshafen WOW //NONSGML Events //EN
CALSCALE:GREGORIAN
X-WR-CALNAME:Ludwigshafen WOW
BEGIN:VTIMEZONE
TZID:Europe/Berlin
TZURL:http://tzurl.org/zoneinfo-outlook/Europe/Berlin
X-LIC-LOCATION:Europe/Berlin
BEGIN:STANDARD
TZOFFSETFROM:+0200
TZOFFSETTO:+0100
TZNAME:CET
DTSTART:19701025T030000
RRULE:FREQ=YEARLY;BYMONTH=10;BYDAY=-1SU
END:STANDARD
BEGIN:DAYLIGHT
TZOFFSETFROM:+0100
TZOFFSETTO:+0200
TZNAME:CEST
DTSTART:19700329T020000
RRULE:FREQ=YEARLY;BYMONTH=3;BYDAY=-1SU
END:DAYLIGHT
END:VTIMEZONE
BEGIN:VEVENT
TZID:Europe/Berlin
CREATED:20241129T084300
UID:39427
DTSTART;TZID=Europe/Berlin:20241129T200000
DTEND;TZID=Europe/Berlin:20241129T210000
DTSTAMP:20260422T102536
LOCATION:BASF-Feierabendhaus\, Leuschnerstraße 47\, 67063 Ludwigshafen am Rhein
DESCRIPTION:Christian „CHAKO“ Habekost, Comedian The Reverend kummt nochemol! Nach dem furiosen Erfolg der Weihnachtstour 23/24 kommt Chako Habekost mit seiner GOSCHpel-SHOW noch einmal, um die schönste Zeit des Jahres comedyantisch aufzumischen. Eine aktualisierte Version des Weihnachts- und Neujahr-Programms wird ab 29.11.2024 auf ausgewählten Bühnen der Region zu erleben sein. CHAKOs GOSCHpel-SHOW ist ein satirisch-besinnliches, bös‘-liebevolles Comedy-Special für Weihnachts-Lover un -Muffel, Feuerwerksverächter und Raketen-Rowdies gleichermaßen.  Die wilde, kabarettistische Reise durch die schlimm-schönste Zeit des Jahres begeistert Menschen aller Generationen von 10 bis 100. Natürlich wieder mit von der Partie (Party!): Der legendäre Baptistenprediger Reverend Lovemachine, mit der ultimativen Predigt über die Lage der „gemeinen Gemeinde of Germany“ und der Verkündigung seines speziellen denglisch-pälzischen Goschpels. Hallelu- und sowas von -ahjoooh, de Reverend is widder do! Neben der verbalen Rhythmusmaschine gibt es auch ein paar echte musikalische Überraschungen, comedyantisch-dialektische Songs und  Woinachtslieder zum mitsingen....„Weihnachtsprogramme schreibe und spiele ich deswegen so gern, weil in relativ kurzer Zeit auf engstem Raum des eigenen Wohnzimmers soo viel passiert. Erscht freet sisch jeder druff – un denooch is jeder irgendwie froh, wann’s rum is. Mehr Comedy-Potenzial geht net! Oh happy day, weeschwie’schmään?“Quelle: BASF Bild ©Hyp Yerlikaya  ZU DEN TICKETS 
SUMMARY:CHAKOs GOSCHpel-Show2
ORGANIZER:ludwigshafen-wow
URL;VALUE=URI:https://ludwigshafen-wow.de/?p=39427
TRANSP:OPAQUE
BEGIN:VALARM
ACTION:DISPLAY
TRIGGER;TZID=Europe/Berlin:20241129T190000
DESCRIPTION:Reminder for CHAKOs GOSCHpel-Show2
END:VALARM
END:VEVENT
END:VCALENDAR
