BEGIN:VCALENDAR
VERSION:2.0
PRODID:-//Ludwigshafen WOW //NONSGML Events //EN
CALSCALE:GREGORIAN
X-WR-CALNAME:Ludwigshafen WOW
BEGIN:VTIMEZONE
TZID:Europe/Berlin
TZURL:http://tzurl.org/zoneinfo-outlook/Europe/Berlin
X-LIC-LOCATION:Europe/Berlin
BEGIN:STANDARD
TZOFFSETFROM:+0200
TZOFFSETTO:+0100
TZNAME:CET
DTSTART:19701025T030000
RRULE:FREQ=YEARLY;BYMONTH=10;BYDAY=-1SU
END:STANDARD
BEGIN:DAYLIGHT
TZOFFSETFROM:+0100
TZOFFSETTO:+0200
TZNAME:CEST
DTSTART:19700329T020000
RRULE:FREQ=YEARLY;BYMONTH=3;BYDAY=-1SU
END:DAYLIGHT
END:VTIMEZONE
BEGIN:VEVENT
TZID:Europe/Berlin
CREATED:20241126T190500
UID:40119
DTSTART;TZID=Europe/Berlin:20241126T193000
DTEND;TZID=Europe/Berlin:20241126T203000
DTSTAMP:20260421T081240
LOCATION:Theater im Pfalzbau\, Berliner Str. 30\, 67059 Ludwigshafen am Rhein
DESCRIPTION:Mit ihrer jüngsten Arbeit Made of Space schließt das libanesisch-spanische Choreograph*innen-Gespann Guy Nader und Maria Campos und ihre Compagnie GN/MC aus Barcelona nach Time Takes The Time Time Takes (2015) und Set of Sets (2018) ihre Trilogie rund um die Themen Rhythmus, Zeit, Raum und Vergänglichkeit ab. Nader und Campos kreieren hier Bewegungsmaterial, das präzise und filigran wie ein Uhrwerk ineinandergreift und Tänzer*innen wie Publikum in Atem hält. Hochdynamische Schrittkombinationen kulminieren in Sprüngen, Würfen und Drehungen, die in einem rauschhaften Tempo den reinen Tanz feiern. Die treibende Kraft für den unaufhaltsamen Bewegungsfluss ist die facettenreiche Live-Musik der beiden Schlagwerk-Virtuosen Daniel Munarriz und Joan Pérez-Villegas, komponiert von Miguel Marin. Besetzt mit sieben Tänzer*innen verspricht Made of Space ein furioses Finale der bewegten Metaphern für Lebenszyklen aus Entstehen und Vergehen.Das Ensemble GN/MC widmet sich den künstlerischen Arbeiten der beiden Choreographen und Tänzer Guy Nader und Maria Campos. Die in Barcelona ansässigen Künstler arbeiten seit 2006 zusammen und haben mehrere Werke geschaffen, die international auf verschiedenen Festivals und an verschiedenen Orten gezeigt wurden. Das Choreographen-Duo Guy Nader und Maria Campos genießt Kultstatus wegen ihrer fließend dahingleitenden Arbeiten, die mit technischen Bravoureinlagen gespickt sind.Quelle: Theater im Pfalzbau, Bild ©Alfred Mauve  ZU DEN TICKETS  Tanzstück von Guy Nader und Maria CamposGN/MCSpanienChoreographie und Bühne Guy Nader, Maria CamposKreation und Performance Alex de Vries, Anamaria Klajnšček, Héctor Plaza, Maria Campos, Maxime Smeets, Noé Ferey, Patricia HastewellMusik Miguel MarínKostüme Gabriela LotaifLive-Musik Daniel Munarriz, Joan Pérez-VillegasLichtdesign Conchita PonsDI, 26.11.24, 19:30 UHR, TT, TG 5GROSSE BÜHNEPreise 51 € / 42 € / 34 € / 26 €Dauer ca. 70 Minuten, keine Pause
SUMMARY:Made of Space
ORGANIZER:ludwigshafen-wow
URL;VALUE=URI:https://ludwigshafen-wow.de/?p=40119
TRANSP:OPAQUE
BEGIN:VALARM
ACTION:DISPLAY
TRIGGER;TZID=Europe/Berlin:20241126T183000
DESCRIPTION:Reminder for Made of Space
END:VALARM
END:VEVENT
END:VCALENDAR
