BEGIN:VCALENDAR
VERSION:2.0
PRODID:-//Ludwigshafen WOW //NONSGML Events //EN
CALSCALE:GREGORIAN
X-WR-CALNAME:Ludwigshafen WOW
BEGIN:VTIMEZONE
TZID:Europe/Berlin
TZURL:http://tzurl.org/zoneinfo-outlook/Europe/Berlin
X-LIC-LOCATION:Europe/Berlin
BEGIN:STANDARD
TZOFFSETFROM:+0200
TZOFFSETTO:+0100
TZNAME:CET
DTSTART:19701025T030000
RRULE:FREQ=YEARLY;BYMONTH=10;BYDAY=-1SU
END:STANDARD
BEGIN:DAYLIGHT
TZOFFSETFROM:+0100
TZOFFSETTO:+0200
TZNAME:CEST
DTSTART:19700329T020000
RRULE:FREQ=YEARLY;BYMONTH=3;BYDAY=-1SU
END:DAYLIGHT
END:VTIMEZONE
BEGIN:VEVENT
TZID:Europe/Berlin
CREATED:20241109T133300
UID:40336
DTSTART;TZID=Europe/Berlin:20241109T193000
DTEND;TZID=Europe/Berlin:20241109T203000
DTSTAMP:20260420T085956
LOCATION:Theater im Pfalzbau\, Berliner Str. 30\, 67059 Ludwigshafen am Rhein
DESCRIPTION:Tanzstück von Wayne McGregorUniVerse: A Dark Crystal Odyssey zieht wie eine bewegende und aufrüttelnde Meditation über die Klimakrise in den Bann. Inspiriert von Jim Hensons Kultklassiker Der dunkle Kristall über einen kranken Planeten und eine gespaltene Rasse, zeigt UniVerse eine von Extremen zerrissene Erde, die dringend der Heilung bedarf.Ein atemberaubendes digitales Setting und hochmoderne Kostüme schaffen eine verblüffende Mischung aus Fantasie und Dokumentarfilm. McGregors spannende Choreographie geht einen Dialog ein mit eingesprochenen Texten, die die Untrennbarkeit von Mensch und Natur thematisieren. Die außergewöhnlichen Tänzer der Wayne McGregor Company bringen diesen modernen Öko-Mythos eindrucksvoll zum Ausdruck und werfen die Frage auf, wie wir zusammenkommen können, um wieder ein Ganzes zu sein.Quelle: Theater im Pfalzbau  ZU DEN TICKETS  Tanzstück von Wayne McGregorCompany Wayne McGregorGroßbritannienInszenierung und Choreographie Wayne McGregorMusik Joel CadburyFilm-Design Ravi DeepresLichtdesign Lucy CarterKostüme und Masken Philip Delamore, Dr. Alex BoxSpoken Word Artist Isaiah HullDramaturgie Uzma HameedSA, 09.11.24, 19:30 UHR, AL 2, TG 6GROSSE BÜHNEPreise 45 € / 38 € / 31 € / 24 €Dauer ca. 70 Minuten
SUMMARY:UniVerse: A Dark Crystal Odyssey
ORGANIZER:ludwigshafen-wow
URL;VALUE=URI:https://ludwigshafen-wow.de/?p=40336
TRANSP:OPAQUE
BEGIN:VALARM
ACTION:DISPLAY
TRIGGER;TZID=Europe/Berlin:20241109T183000
DESCRIPTION:Reminder for UniVerse: A Dark Crystal Odyssey
END:VALARM
END:VEVENT
END:VCALENDAR
