BEGIN:VCALENDAR
VERSION:2.0
PRODID:-//Ludwigshafen WOW //NONSGML Events //EN
CALSCALE:GREGORIAN
X-WR-CALNAME:Ludwigshafen WOW
BEGIN:VTIMEZONE
TZID:Europe/Berlin
TZURL:http://tzurl.org/zoneinfo-outlook/Europe/Berlin
X-LIC-LOCATION:Europe/Berlin
BEGIN:STANDARD
TZOFFSETFROM:+0200
TZOFFSETTO:+0100
TZNAME:CET
DTSTART:19701025T030000
RRULE:FREQ=YEARLY;BYMONTH=10;BYDAY=-1SU
END:STANDARD
BEGIN:DAYLIGHT
TZOFFSETFROM:+0100
TZOFFSETTO:+0200
TZNAME:CEST
DTSTART:19700329T020000
RRULE:FREQ=YEARLY;BYMONTH=3;BYDAY=-1SU
END:DAYLIGHT
END:VTIMEZONE
BEGIN:VEVENT
TZID:Europe/Berlin
CREATED:20250429T124800
UID:40365
DTSTART;TZID=Europe/Berlin:20250429T193000
DTEND;TZID=Europe/Berlin:20250429T203000
DTSTAMP:20260420T090019
LOCATION:Theater im Pfalzbau\, Berliner Str. 30\, 67059 Ludwigshafen am Rhein
DESCRIPTION:Ein Mann betritt die Bühne. Ein wenig schüchtern wagt er die ersten Schritte, beginnt zu entdecken, was man mit Armen und Beinen so alles machen kann. Im bunten Ganzkörperanzug wirkt er kindlich, und auch sein Tanz entwickelt den Charme eines aufgeregten Kindes. Ein zweiter Mann kommt hinzu, dann noch ein dritter. Jetzt beginnt eine Art Wettbewerb: Wer traut sich zu hüpfen, mit den Armen zu schlenkern, Pirouetten zu drehen? Wer erfindet die ausgefallensten Bewegungsfolgen? Die drei beäugen und bestaunen einander und sich selbst, herrlich komisch sind sie in ihrem Eifer und ihrer unverstellten Direktheit.Die belgische Choreographin Ayelen Parolin schickt ihre drei Darsteller in ein erstaunliches Spiel aus Rhythmus und Konstruktion, das gleichzeitig repetitiv und immer in Bewegung ist. Ein musikalisches Spiel – ohne Musik. Denn in Simple hat die Choreographin auf einen ihrer wichtigsten Spielpartner verzichtet. Und da es keine Musik gibt, müssen die Körper, die sie auf die Bühne bringt, sie erfinden, sich vorstellen, sie spielen. Zu dritt, in Komplizenschaft, im Einverständnis. Mit der Kraft und der zutiefst menschlichen Aufrichtigkeit des Narren, des Naiven, des Kindes - dort, wo alles (noch) möglich ist, vom Unsinnigen bis zum Traumhaften.Quelle: Theater im Pfalzbau  ZU DEN TICKETS  Tanzstück von Ayelen ParolinRUDA /Ayelen ParolinBelgienChoreographie Ayelen ParolinLicht Laurence HalloyBühne und Kostüme Marie SzersnoviczDramaturgie Olivier HespelMit Baptiste Cazaux, Piet Defranco, Daan JaartsveldIn Koproduktion mit Charleroi danse, Le Centquatre-Paris, Théâtre de Liège, CCN de Tours, MA Scène nationale – Pays de Montbéliard, Les Brigittines, DC&J CréationDI, 29.04.25, 19:30 UHR, TTZMI, 30.04.25, 19:30 UHR, UPKLEINE BÜHNEEinheitspreis 28 € / ermäßigt 19 €Dauer ca. 50 Minuten, keine Pause
SUMMARY:Simple
ORGANIZER:ludwigshafen-wow
URL;VALUE=URI:https://ludwigshafen-wow.de/?p=40365
TRANSP:OPAQUE
BEGIN:VALARM
ACTION:DISPLAY
TRIGGER;TZID=Europe/Berlin:20250429T183000
DESCRIPTION:Reminder for Simple
END:VALARM
END:VEVENT
END:VCALENDAR
