BEGIN:VCALENDAR
VERSION:2.0
PRODID:-//Ludwigshafen WOW //NONSGML Events //EN
CALSCALE:GREGORIAN
X-WR-CALNAME:Ludwigshafen WOW
BEGIN:VTIMEZONE
TZID:Europe/Berlin
TZURL:http://tzurl.org/zoneinfo-outlook/Europe/Berlin
X-LIC-LOCATION:Europe/Berlin
BEGIN:STANDARD
TZOFFSETFROM:+0200
TZOFFSETTO:+0100
TZNAME:CET
DTSTART:19701025T030000
RRULE:FREQ=YEARLY;BYMONTH=10;BYDAY=-1SU
END:STANDARD
BEGIN:DAYLIGHT
TZOFFSETFROM:+0100
TZOFFSETTO:+0200
TZNAME:CEST
DTSTART:19700329T020000
RRULE:FREQ=YEARLY;BYMONTH=3;BYDAY=-1SU
END:DAYLIGHT
END:VTIMEZONE
BEGIN:VEVENT
TZID:Europe/Berlin
CREATED:20250523T131000
UID:40833
DTSTART;TZID=Europe/Berlin:20250523T193000
DTEND;TZID=Europe/Berlin:20250523T203000
DTSTAMP:20260421T081248
LOCATION:Theater im Pfalzbau\, Berliner Str. 30\, 67059 Ludwigshafen am Rhein
DESCRIPTION:Die Compagnie wurde im September 2016 von Manon Contrino und Toufik Maadi gegründet und hat ihren Sitz in Saint-Etienne. Die Bewegungssprache der beiden jungen Choreographen ist vom Hip-Hop und zeitgenössischer Technik geprägt. Beide legen großen Wert auf Authentizität. In Relative World erzählen sie die Geschichte einer Liebe jenseits des Todes. Ein Paar wird durch den Tod getrennt, doch sie, die gestorben ist, weigert sich, den, den sie liebt, für immer zu verlassen. Und auch er möchte die Frau, die er liebt, wieder zum Leben erwecken. In der Weigerung, die Trennung anzuerkennen, versuchen sie, sich über das Verschwinden hinaus zu finden. Den Körpern ist die Erinnerung eingebrannt, die sich dem Tod und der Zeit stellen muss. Im Tanz begegnen sich zwei Seelen, die durch ein Herz geeint sind. Seine Bewegungen gelten ihr, ihre Bewegungen gelten ihm. Sie kämpfen darum, in Verbindung zu bleiben und einen Schutzwall gegen das Vergessen aufzubauen. Contrino und Maadi führen in ihrer Choreographie die Verletzlichkeit des Körpers vor Augen und seine Mittel, der Realität zu begegnen: entweder indem er ihr entflieht oder indem er ihr Widerstand leistet.Quelle: Theater im Pfalzbau  ZU DEN TICKETS  Compagnie B21FrankreichChoreographie von Manon Contrino und Toufik MaadiFR, 23.05.25, 19:30 UHR, JA 2SA, 24.05.25, 19:30 UHR, UPKLEINE BÜHNEEinheitspreis 20 € / ermäßigt 12 €Dauer ca. 60 Minuten
SUMMARY:Relative World
ORGANIZER:ludwigshafen-wow
URL;VALUE=URI:https://ludwigshafen-wow.de/?p=40833
TRANSP:OPAQUE
BEGIN:VALARM
ACTION:DISPLAY
TRIGGER;TZID=Europe/Berlin:20250523T183000
DESCRIPTION:Reminder for Relative World
END:VALARM
END:VEVENT
END:VCALENDAR
