BEGIN:VCALENDAR
VERSION:2.0
PRODID:-//Ludwigshafen WOW //NONSGML Events //EN
CALSCALE:GREGORIAN
X-WR-CALNAME:Ludwigshafen WOW
BEGIN:VTIMEZONE
TZID:Europe/Berlin
TZURL:http://tzurl.org/zoneinfo-outlook/Europe/Berlin
X-LIC-LOCATION:Europe/Berlin
BEGIN:STANDARD
TZOFFSETFROM:+0200
TZOFFSETTO:+0100
TZNAME:CET
DTSTART:19701025T030000
RRULE:FREQ=YEARLY;BYMONTH=10;BYDAY=-1SU
END:STANDARD
BEGIN:DAYLIGHT
TZOFFSETFROM:+0100
TZOFFSETTO:+0200
TZNAME:CEST
DTSTART:19700329T020000
RRULE:FREQ=YEARLY;BYMONTH=3;BYDAY=-1SU
END:DAYLIGHT
END:VTIMEZONE
BEGIN:VEVENT
TZID:Europe/Berlin
CREATED:20241010T111200
UID:40898
DTSTART;TZID=Europe/Berlin:20241010T200000
DTEND;TZID=Europe/Berlin:20241010T210000
DTSTAMP:20260420T102505
LOCATION:Kulturzentrum dasHausBahnhofstraße 30\, 67059 Ludwigshafen am Rhein
DESCRIPTION:Einmal im Monat präsentiert der Förderverein die Jazz Lights Jam Sessions in Gedenken an ihren Mitbegründer Christian Scheuber. Es locken Konzerte bekannter Jazz-Musiker*innen mit anschließender Jam-Session.Immer am zweiten Donnerstag im Monat heißt es Jazz Session im Dôme! Tobias Fronhöfer (Drums & Vibes) und Regina Litvinova (Keys) spielen im Duo oder Trio mit wechselnden Gästen - diesmal mit der Sängerin Jil Pappert! Anschliessend: Jam Session.Quelle: Kulturzentrum das Haus KontaktKulturzentrum dasHaus der Stadt Ludwigshafen am RheinBahnhofstr. 3067059 Ludwigshafen am RheinTelefon: 0621 – 504 2888dashaus@ludwigshafen.de
SUMMARY:The Christian Scheuber Legacy Jazz Lights Jam Sessions
ORGANIZER:ludwigshafen-wow
URL;VALUE=URI:https://ludwigshafen-wow.de/?p=40898
TRANSP:OPAQUE
BEGIN:VALARM
ACTION:DISPLAY
TRIGGER;TZID=Europe/Berlin:20241010T190000
DESCRIPTION:Reminder for The Christian Scheuber Legacy Jazz Lights Jam Sessions
END:VALARM
END:VEVENT
END:VCALENDAR
