BEGIN:VCALENDAR
VERSION:2.0
PRODID:-//Ludwigshafen WOW //NONSGML Events //EN
CALSCALE:GREGORIAN
X-WR-CALNAME:Ludwigshafen WOW
BEGIN:VTIMEZONE
TZID:Europe/Berlin
TZURL:http://tzurl.org/zoneinfo-outlook/Europe/Berlin
X-LIC-LOCATION:Europe/Berlin
BEGIN:STANDARD
TZOFFSETFROM:+0200
TZOFFSETTO:+0100
TZNAME:CET
DTSTART:19701025T030000
RRULE:FREQ=YEARLY;BYMONTH=10;BYDAY=-1SU
END:STANDARD
BEGIN:DAYLIGHT
TZOFFSETFROM:+0100
TZOFFSETTO:+0200
TZNAME:CEST
DTSTART:19700329T020000
RRULE:FREQ=YEARLY;BYMONTH=3;BYDAY=-1SU
END:DAYLIGHT
END:VTIMEZONE
BEGIN:VEVENT
TZID:Europe/Berlin
CREATED:20250415T081308
UID:45839
DTSTART;TZID=Europe/Berlin:20250415T180000
DTEND;TZID=Europe/Berlin:20250415T190000
DTSTAMP:20260420T085908
LOCATION:BASF-Feierabendhaus\, Leuschnerstraße 47\, 67063 Ludwigshafen am Rhein
DESCRIPTION:Gemeinsam Literatur erkunden und offenen Austausch ermöglichen – dafür steht das Format Shared Reading. In kleinen Runden von maximal 15-20 Teilnehmenden wird in Ludwigshafen zum Feierabend gemütlich gelesen, diskutiert und zugehört. Denn es gilt: Alle Meinungen sind willkommen. Dabei führen die ausgebildeten Leseleiterinnen durch den Abend und geben Denkanstöße, um Gespräche zu ermöglichen. Shared Reading ist für alle Teilnehmenden kostenlos und es werden keine Vorkenntnisse benötigt.Shared Reading zeichnet sich durch eine einzigartige Kombination von Elementen aus, die es zu einem besonderen literarischen Erlebnis machen. In einer entspannenden Atmosphäre kommen Menschen zusammen, um über gesellschaftlich relevante Themen zu diskutieren, ohne dass Vorbereitung oder Vorkenntnisse erforderlich sind. Dieses kostenlose Angebot bietet 90 Minuten Zeit für einen freien und offenen Gedankenaustausch. In einem geschützten Raum öffnet Shared Reading die Tür zu eigenen Gedanken und Gefühlen, wodurch Teilnehmer die Möglichkeit haben, sich selbst und andere auf einer tieferen Ebene zu verstehen. Es ist ein Format, das Literatur zugänglich macht und gleichzeitig persönliche Reflexion und gemeinschaftlichen Dialog fördert.Die Shared Reading Runden finden im zweiwöchentlichen Rythmus jeweils dienstags, von 18-19:30 Uhr, im Restaurant ma[h]l:zeit (Feierabendhaus) statt. Quelle & Bild: BASFWeitere Termine07. & 21.01.25 04. & 18.02.25 04. & 18.03.25 01. & 15.04.25  ANMELDUNG ÜBER DIE WEBSITE DER BASF 
SUMMARY:Shared Reading
ORGANIZER:ludwigshafen-wow
URL;VALUE=URI:https://ludwigshafen-wow.de/?p=45839
TRANSP:OPAQUE
BEGIN:VALARM
ACTION:DISPLAY
TRIGGER;TZID=Europe/Berlin:20250415T170000
DESCRIPTION:Reminder for Shared Reading
END:VALARM
END:VEVENT
END:VCALENDAR
