BEGIN:VCALENDAR
VERSION:2.0
PRODID:-//Ludwigshafen WOW //NONSGML Events //EN
CALSCALE:GREGORIAN
X-WR-CALNAME:Ludwigshafen WOW
BEGIN:VTIMEZONE
TZID:Europe/Berlin
TZURL:http://tzurl.org/zoneinfo-outlook/Europe/Berlin
X-LIC-LOCATION:Europe/Berlin
BEGIN:STANDARD
TZOFFSETFROM:+0200
TZOFFSETTO:+0100
TZNAME:CET
DTSTART:19701025T030000
RRULE:FREQ=YEARLY;BYMONTH=10;BYDAY=-1SU
END:STANDARD
BEGIN:DAYLIGHT
TZOFFSETFROM:+0100
TZOFFSETTO:+0200
TZNAME:CEST
DTSTART:19700329T020000
RRULE:FREQ=YEARLY;BYMONTH=3;BYDAY=-1SU
END:DAYLIGHT
END:VTIMEZONE
BEGIN:VEVENT
TZID:Europe/Berlin
CREATED:20260306T134644
UID:49259
DTSTART;TZID=Europe/Berlin:20260306T193000
DTEND;TZID=Europe/Berlin:20260306T203000
DTSTAMP:20260422T122235
LOCATION:BASF-Feierabendhaus\, Leuschnerstraße 47\, 67063 Ludwigshafen am Rhein
DESCRIPTION:Wenn sich die mehrfach grammynominierte SWR Big Band mit einem musikalischen Kraftpaket wie Max Mutzke zusammentut, dann verschmelzen ein zeitgemäßer Big-Band-Sound und eine charismatische Stimme zu einem energiegeladenen Amalgam, das buchstäblich jeden von den Sitzen reißt. Das Programm „Soul viel mehr“ bietet einen Mix aus Mutzke-Hits wie „Welt hinter Glas“, „Can´t wait until tonight“ oder „Marie“, Soul-Klassikern wie „Me & Mrs. Jones“ und Songs von Alicia Keys, Will Smith oder Sly & The Family Stone. Quelle und Bild BASF Kulturfabrik.  ZU DEN TICKETS 
SUMMARY:Max Mutzke & SWR Big Band „Soul viel mehr“
ORGANIZER:ludwigshafen-wow
URL;VALUE=URI:https://ludwigshafen-wow.de/?p=49259
TRANSP:OPAQUE
BEGIN:VALARM
ACTION:DISPLAY
TRIGGER;TZID=Europe/Berlin:20260306T183000
DESCRIPTION:Reminder for Max Mutzke &amp\; SWR Big Band &#8222\;Soul viel mehr&#8220\;
END:VALARM
END:VEVENT
END:VCALENDAR
