BEGIN:VCALENDAR
VERSION:2.0
PRODID:-//Ludwigshafen WOW //NONSGML Events //EN
CALSCALE:GREGORIAN
X-WR-CALNAME:Ludwigshafen WOW
BEGIN:VTIMEZONE
TZID:Europe/Berlin
TZURL:http://tzurl.org/zoneinfo-outlook/Europe/Berlin
X-LIC-LOCATION:Europe/Berlin
BEGIN:STANDARD
TZOFFSETFROM:+0200
TZOFFSETTO:+0100
TZNAME:CET
DTSTART:19701025T030000
RRULE:FREQ=YEARLY;BYMONTH=10;BYDAY=-1SU
END:STANDARD
BEGIN:DAYLIGHT
TZOFFSETFROM:+0100
TZOFFSETTO:+0200
TZNAME:CEST
DTSTART:19700329T020000
RRULE:FREQ=YEARLY;BYMONTH=3;BYDAY=-1SU
END:DAYLIGHT
END:VTIMEZONE
BEGIN:VEVENT
TZID:Europe/Berlin
CREATED:20250607T122631
UID:49330
DTSTART;TZID=Europe/Berlin:20250607T000000
DTEND;TZID=Europe/Berlin:20251026T010000
DTSTAMP:20260420T090026
LOCATION:Wilhelm-Hack-MuseumBerliner Str. 23\, 67059 Ludwigshafen am Rhein
DESCRIPTION:Anna Andreeva (1917–2008) gehört zu den erfolgreichsten Designerinnen der Sowjetunion. Nach einem Studium des Textildesigns an der WChUTEMAS, einer der innovativsten Kunsthochschulen der Zwischenkriegszeit, arbeitet Andreeva ab 1941 als Designerin an der nach Rosa Luxemburg benannten, renommierten staatlichen Textilfabrik Red Rose Silk Factory. Anknüpfend an die fortschrittlichen Lehren ihrer Ausbildungsstätte entwirft die Künstlerin in den folgenden 40 Jahren radikale, geometrisch-abstrakte Designs. Dies ist umso bemerkenswerter, da sich die staatlich anerkannte Kunst in dieser Zeit bereits weit von ihren konstruktiven Anfängen entfernt hatte und allein der Sozialistische Realismus als Kunstform akzeptiert war. In unterschiedlichen Werkkomplexen schafft Andreeva dessen ungeachtet innovative Stoffentwürfe, die das repressive politische System geschickt unterlaufen, indem die Künstlerin ihre Entwürfe mit zugehörigen Narrativen begleitet. So wurden ihre Entwürfe der Electrifikation Serie anfänglich als „abstrakte Propaganda“ abgelehnt, nachdem Andreeva auf die Elektrifizierung der Städte als zentrale Säule des sowjetischen Fortschritts hingewiesen hatte, wurde das Design jedoch über zehn Jahre produziert. Ihre Werke befinden sich heute im Museum of Modern Art in New York City und wurden noch in diesem Jahr bei einer großen Retrospektive im MOMus in Thessaloniki gewürdigt. Quelle: Wilhelm-Hack-Museum. Bild: kunstdokumentation.com
Kuratorin: Julia Nebenführ
 
SUMMARY:Kabinettstücke: Anna Andreeva – Design und Abstraktion
ORGANIZER:ludwigshafen-wow
URL;VALUE=URI:https://ludwigshafen-wow.de/?p=49330
TRANSP:OPAQUE
BEGIN:VALARM
ACTION:DISPLAY
TRIGGER;TZID=Europe/Berlin:20250606T230000
DESCRIPTION:Reminder for Kabinettstücke: Anna Andreeva – Design und Abstraktion
END:VALARM
END:VEVENT
END:VCALENDAR
