BEGIN:VCALENDAR
VERSION:2.0
PRODID:-//Ludwigshafen WOW //NONSGML Events //EN
CALSCALE:GREGORIAN
X-WR-CALNAME:Ludwigshafen WOW
BEGIN:VTIMEZONE
TZID:Europe/Berlin
TZURL:http://tzurl.org/zoneinfo-outlook/Europe/Berlin
X-LIC-LOCATION:Europe/Berlin
BEGIN:STANDARD
TZOFFSETFROM:+0200
TZOFFSETTO:+0100
TZNAME:CET
DTSTART:19701025T030000
RRULE:FREQ=YEARLY;BYMONTH=10;BYDAY=-1SU
END:STANDARD
BEGIN:DAYLIGHT
TZOFFSETFROM:+0100
TZOFFSETTO:+0200
TZNAME:CEST
DTSTART:19700329T020000
RRULE:FREQ=YEARLY;BYMONTH=3;BYDAY=-1SU
END:DAYLIGHT
END:VTIMEZONE
BEGIN:VEVENT
TZID:Europe/Berlin
CREATED:20250829T113533
UID:50930
DTSTART;TZID=Europe/Berlin:20250829T173000
DTEND;TZID=Europe/Berlin:20250831T183000
DTSTAMP:20260423T101512
LOCATION:
DESCRIPTION:Freitag, 29. August 202517.30 Uhr Ludwigshafener Insellauf Anmeldung über: www.ludwigshafen.Ic.de19 Uhr Eröffnung Hafenfest Christoph Heller, Ortsvorsteher Südl. Innenstadt Jutta Steinruck, Oberbürgermeisterin der Stadt Ludwigshafen am Rhein und Schirmherrin anschließend Siegerehrung Insellaufab 20 Uhr Live-MusikSamstag, 30. August 202511 Uhr Bayerischer Frühschoppen „Der große Rat der Ludwigshafener Karnevalvereine lädt ein“ab 13 Uhr Regatta des LKC Anmeldung: berthold@b-barthel.deab 16 Uhr Politischer Wettstreit Nicht Stimmen, nur die Schlagzahl zählt! ab 17 Uhr Supersprint- Regatta anschließend Siegerehrung ab 19 Uhr Live-MusikSonntag, 31. August 202510 Uhr Ökumenischer Gottesdienst11 Uhr Politischer Frühschoppenab 14 Uhr „Die etwas andere Regatta“ oder „Alles, was schwimmt, zählt!“ Anmeldung unter: 0621/ 569 94 0 maler.heller@t-online.deKinderprogramm: Alles, was Kinder glücklich macht! Hüpfburg, Freiwillige Feuerwehr, THW, Schnupper-Tennis und Schnupper-Hockey ...Quelle: das Hafenfest, Bild Markus Prosswitz
SUMMARY:Das Hafenfest
ORGANIZER:ludwigshafen-wow
URL;VALUE=URI:https://ludwigshafen-wow.de/?p=50930
TRANSP:OPAQUE
BEGIN:VALARM
ACTION:DISPLAY
TRIGGER;TZID=Europe/Berlin:20250829T163000
DESCRIPTION:Reminder for Das Hafenfest
END:VALARM
END:VEVENT
END:VCALENDAR
