BEGIN:VCALENDAR
VERSION:2.0
PRODID:-//Ludwigshafen WOW //NONSGML Events //EN
CALSCALE:GREGORIAN
X-WR-CALNAME:Ludwigshafen WOW
BEGIN:VTIMEZONE
TZID:Europe/Berlin
TZURL:http://tzurl.org/zoneinfo-outlook/Europe/Berlin
X-LIC-LOCATION:Europe/Berlin
BEGIN:STANDARD
TZOFFSETFROM:+0200
TZOFFSETTO:+0100
TZNAME:CET
DTSTART:19701025T030000
RRULE:FREQ=YEARLY;BYMONTH=10;BYDAY=-1SU
END:STANDARD
BEGIN:DAYLIGHT
TZOFFSETFROM:+0100
TZOFFSETTO:+0200
TZNAME:CEST
DTSTART:19700329T020000
RRULE:FREQ=YEARLY;BYMONTH=3;BYDAY=-1SU
END:DAYLIGHT
END:VTIMEZONE
BEGIN:VEVENT
TZID:Europe/Berlin
CREATED:20251004T112029
UID:51189
DTSTART;TZID=Europe/Berlin:20251004T200000
DTEND;TZID=Europe/Berlin:20251004T210000
DTSTAMP:20260420T085842
LOCATION:Kulturzentrum dasHausBahnhofstraße 30\, 67059 Ludwigshafen am Rhein
DESCRIPTION:Es ist soweit – WOANDERS geht diesen Oktober das erste Mal auf Tour. Nach einem unglaublich tollen Festival-Sommer freut sich die Band riesig zu euch in die Stadt zu kommen und mit euch im Rahmen der „Ozean-Tour“ unvergessliche Abende zu genießen.Es gibt Orte, die man nicht auf Karten findet. Orte, an denen man sich fremd fühlt, und doch zuhause ist. Genau diesen Raum zwischen Aufbruch und Sehnsucht, zwischen Energie und Nachdenklichkeit nimmt WOANDERS ein – eine Mischung aus mitreißendem Indie-Pop und Momenten, die die Zeit anhalten lassen. Mit melancholischen, aber hoffnungsvollen Texten schaffen sie eine musikalische Welt, in der das Alltägliche gefühlvoll aufgebrochen wird.Für einen Moment wird der Raum von pulsierender Euphorie erfüllt, die das Publikum zum Tanzen bringt, im nächsten Moment taucht alles in eine unerwartete, fast greifbare Melancholie. WOANDERS schaffen es, in ihrer Musik sowohl Bewegung als auch Stillstand einzufangen – immer auf der Suche nach einem Gefühl, das schwer zu benennen ist. Mal von der Sehnsucht nach Neuem getrieben, mal in ruhigen Momenten des Innehaltens, wenn die Welt um einen stiller wird.Ihr neuster Song "Stillstand" ist der bisher ruhigste Song der gleichnamigen EP. Er thematisiert eine erdrückende Stille und das Gefühl der inneren Leere. Er beschreibt Momente, in denen man weder nach vorn noch zurück kann, und in denen die Zeit scheinbar still steht. Dabei steht der Wunsch zur Veränderung im Fokus, zu dem es aber an Kraft fehlt. Quelle und Bild: Kulturzentrum dasHaus.InfosSa. 04. Oktober 2025 | 20:00 UhrOrt: Kulturzentrum dasHaus - DômeEintritt: VVK: Soli Ticket 17,61€ / Standard 20,68€ / Supporter-Ticket 25,80€Veranstalter: Woanders GbR  ZU DEN TICKETS  https://www.youtube.com/watch?v=6RzsQW-DBKU&t=5s
SUMMARY:WOANDERS
ORGANIZER:ludwigshafen-wow
URL;VALUE=URI:https://ludwigshafen-wow.de/?p=51189
TRANSP:OPAQUE
BEGIN:VALARM
ACTION:DISPLAY
TRIGGER;TZID=Europe/Berlin:20251004T190000
DESCRIPTION:Reminder for WOANDERS
END:VALARM
END:VEVENT
END:VCALENDAR
