BEGIN:VCALENDAR
VERSION:2.0
PRODID:-//Ludwigshafen WOW //NONSGML Events //EN
CALSCALE:GREGORIAN
X-WR-CALNAME:Ludwigshafen WOW
BEGIN:VTIMEZONE
TZID:Europe/Berlin
TZURL:http://tzurl.org/zoneinfo-outlook/Europe/Berlin
X-LIC-LOCATION:Europe/Berlin
BEGIN:STANDARD
TZOFFSETFROM:+0200
TZOFFSETTO:+0100
TZNAME:CET
DTSTART:19701025T030000
RRULE:FREQ=YEARLY;BYMONTH=10;BYDAY=-1SU
END:STANDARD
BEGIN:DAYLIGHT
TZOFFSETFROM:+0100
TZOFFSETTO:+0200
TZNAME:CEST
DTSTART:19700329T020000
RRULE:FREQ=YEARLY;BYMONTH=3;BYDAY=-1SU
END:DAYLIGHT
END:VTIMEZONE
BEGIN:VEVENT
TZID:Europe/Berlin
CREATED:20251219T085543
UID:51950
DTSTART;TZID=Europe/Berlin:20251219T193000
DTEND;TZID=Europe/Berlin:20251219T203000
DTSTAMP:20260420T090024
LOCATION:Theater im Pfalzbau\, Berliner Str. 30\, 67059 Ludwigshafen am Rhein
DESCRIPTION:Weihnachts-Spezial: KrippenspielAlso gut, wir haben verstanden. Alkohol ist schädlich, und das vom ersten Tropfen an. Die Legende vom gesunden Glaserl Rotwein ist ein für allemal widerlegt. Und nun? Vergeht kaum ein Tag, ohne dass das Nervengift am Pranger steht oder ein Influencer über das aufregende Erlebnis eines Jahres Nüchternheit berichtet. Das Glas ist nicht halb voll und nicht halb leer, nein, es ist gar nichts mehr drin. Das merken auch schon die Winzer, und zu den multiplen Krisen der Gegenwart gesellt sich nun auch noch die Absatzkrise im Weinhandel. Wussten Sie übrigens, dass der alkoholische Rausch auch bei den Schimpansen zum Zeitvertreib gehört? Afrikanische Vertreter unserer Vorfahren wurden kürzlich beim Rudeltrinken erwischt, sie genossen vergorene Früchte und zeigten danach ein ähnliches Verhalten wie wir Menschen nach dem Saufgelage: Entweder hauten sie einander auf die Rübe oder sie legten sich schlafen. Die Forscher zogen aus ihrer Beobachtung den Schluss, dass das Trinken von Alkohol tief in der Evolutionsgeschichte verankert ist.Wie auch immer, in der Pfalz ist der Wein Grundnahrungsmittel, Kulturgut, Wirtschaftsfaktor. Das werden wir weiterhin würdigen, ganze vier Mal im Jahr. Was Sie an den anderen 361 Tagen machen, bleibt Ihnen überlassen. Prost! Quelle und Bild Theater im PfalzbauPfalzbau Bühnen LudwigshafenModeration Tilman GerschMusik Frank RosenbergerKonzept Barbara WendlandIn Zusammenarbeit mit der Städtischen Musikschule LudwigshafenGLÄSERNES FOYERFR, 19.12.25, 19:30 UHREinheitspreis 22 € (inkl. 3 Weinproben)
SUMMARY:Wort & Wein
ORGANIZER:ludwigshafen-wow
URL;VALUE=URI:https://ludwigshafen-wow.de/?p=51950
TRANSP:OPAQUE
BEGIN:VALARM
ACTION:DISPLAY
TRIGGER;TZID=Europe/Berlin:20251219T183000
DESCRIPTION:Reminder for Wort &amp\; Wein
END:VALARM
END:VEVENT
END:VCALENDAR
