BEGIN:VCALENDAR
VERSION:2.0
PRODID:-//Ludwigshafen WOW //NONSGML Events //EN
CALSCALE:GREGORIAN
X-WR-CALNAME:Ludwigshafen WOW
BEGIN:VTIMEZONE
TZID:Europe/Berlin
TZURL:http://tzurl.org/zoneinfo-outlook/Europe/Berlin
X-LIC-LOCATION:Europe/Berlin
BEGIN:STANDARD
TZOFFSETFROM:+0200
TZOFFSETTO:+0100
TZNAME:CET
DTSTART:19701025T030000
RRULE:FREQ=YEARLY;BYMONTH=10;BYDAY=-1SU
END:STANDARD
BEGIN:DAYLIGHT
TZOFFSETFROM:+0100
TZOFFSETTO:+0200
TZNAME:CEST
DTSTART:19700329T020000
RRULE:FREQ=YEARLY;BYMONTH=3;BYDAY=-1SU
END:DAYLIGHT
END:VTIMEZONE
BEGIN:VEVENT
TZID:Europe/Berlin
CREATED:20251018T125435
UID:52475
DTSTART;TZID=Europe/Berlin:20251018T150000
DTEND;TZID=Europe/Berlin:20251018T160000
DTSTAMP:20260421T081254
LOCATION:Rudolf-Scharpf-Galerie\, Hemshofstr. 54\, 67063 Ludwigshafen am Rhein
DESCRIPTION:Der Künstlerbund Rhein-Neckar ist in der Rudolf-Scharpf-Galerie zu Gast und zeigt ausgewählte Positionen seiner Mitglieder. Die Ausstellung bietet einen repräsentativen Einblick in die Arbeit der 65 Mitglieder der 1964 gegründeten Vereinigung von Künstler*innen der Metropolregion Rhein-Neckar. Gezeigt werden Werke aus den Bereichen Malerei, Zeichnung, Skulptur, Video und Performance.Der Künstlerbund Rhein-Neckar gehört zu den einflussreichsten Künstler*innenvereinigungen in der Metropolregion und ist eine unabhängige Interessenvertretung der Künstlerinnen und Künstler aus der Region gegenüber Politik, Kulturinstitutionen und Kunstmarkt. Er stärkt die Wahrnehmung der künstlerischen Arbeit der Mitglieder in der Öffentlichkeit und fördert die Vernetzung der Mitglieder untereinander und mit anderen Institutionen.Mit Werken von: AINO, Michael Bacht, Clapeko van der Heide, Werner Degreif, Doris Erbacher, Stanford Fatas, Tom Feritsch, Mitsuko Hoshino, Gerd Lind, Sonja Scherer, Joscha Steffens und Fritz StierAls Rahmenprogramm zur Ausstellung bietet der Künstlerbund Rhein-Neckar die Veranstaltungsreihe „Kunst, Kontext und Drinks“ an. Am Samstag, den 18. Oktober 2025, am Samstag, den 1. November 2025 und am Samstag, den 6. Dezember 2025 jeweils um 15 Uhr können Besucher*innen mit den ausgestellten Künstler*innen über ihre Werke sprechen, Performances entdecken oder Führungen mit Mitgliedern des Vereins genießen. Die Teilnahme ist kostenlos.Bitte beachten Sie, dass die Rudolf-Scharpf-Galerie andere Öffnungszeiten als das Wilhelm-Hack-Museum hat: Die Galerie hat freitags bis sonntags von 11:00 Uhr bis 18:00 Uhr geöffnet. Montags bis donnerstags ist die Galerie geschlossen. Der Eintritt ist kostenlos. Quelle und Bild Wilhelm-Hack-Museum.
SUMMARY:Kunst, Kontext und Drinks: local voices. Künstlerbund Rhein-Neckar
ORGANIZER:ludwigshafen-wow
URL;VALUE=URI:https://ludwigshafen-wow.de/?p=52475
TRANSP:OPAQUE
BEGIN:VALARM
ACTION:DISPLAY
TRIGGER;TZID=Europe/Berlin:20251018T140000
DESCRIPTION:Reminder for Kunst\, Kontext und Drinks: local voices. Künstlerbund Rhein-Neckar
END:VALARM
END:VEVENT
END:VCALENDAR
