BEGIN:VCALENDAR
VERSION:2.0
PRODID:-//Ludwigshafen WOW //NONSGML Events //EN
CALSCALE:GREGORIAN
X-WR-CALNAME:Ludwigshafen WOW
BEGIN:VTIMEZONE
TZID:Europe/Berlin
TZURL:http://tzurl.org/zoneinfo-outlook/Europe/Berlin
X-LIC-LOCATION:Europe/Berlin
BEGIN:STANDARD
TZOFFSETFROM:+0200
TZOFFSETTO:+0100
TZNAME:CET
DTSTART:19701025T030000
RRULE:FREQ=YEARLY;BYMONTH=10;BYDAY=-1SU
END:STANDARD
BEGIN:DAYLIGHT
TZOFFSETFROM:+0100
TZOFFSETTO:+0200
TZNAME:CEST
DTSTART:19700329T020000
RRULE:FREQ=YEARLY;BYMONTH=3;BYDAY=-1SU
END:DAYLIGHT
END:VTIMEZONE
BEGIN:VEVENT
TZID:Europe/Berlin
CREATED:20251115T093627
UID:52530
DTSTART;TZID=Europe/Berlin:20251115T000000
DTEND;TZID=Europe/Berlin:20260406T010000
DTSTAMP:20260420T090037
LOCATION:Wilhelm-Hack-MuseumBerliner Str. 23\, 67059 Ludwigshafen am Rhein
DESCRIPTION:Das Medium Buch spielt im Gesamtwerk von Jonathan Meese eine zentrale Rolle. Die ersten Künstlerbücher entstehen bereits an der Hochschule für bildende Künste in Hamburg. Dort beginnt Meese, eigene Texte zu verfassen und vorzutragen. Aus diesen Lesungen entwickeln sich erste Performances. Meeses serielle Arbeitsweise bringt in der Folge eine Materialfülle hervor, die er in Form von Installationen, Mappen, Büchern und Heften präsentiert. Mit dem Ende der Kunsthochschulzeit ändern sich die Formate und häufig auch das Material der Künstlerbücher. In großen Collagebüchern und Folianten werden Freund*innen und Personen aus der Kunstwelt mit historischen Figuren, Philosoph*innen oder den Held*innen aus Groschenromanen kombiniert. Die stilbildenden Elemente der Künstlerbücher werden auch für die Gestaltung von Sonderausgaben und Ausstellungskatalogen adaptiert.
Im Wilhelm-Hack-Museum wird zum ersten Mal eine umfangreiche Auswahl der Künstlerbücher gezeigt. Zur Ausstellung erscheint das Kommentierte Werkverzeichnis der Bücher von Jonathan Meese 1993–2025 im Verlag der Buchhandlung Walther und Franz König. Quelle und Bild Wilhelm-Hack-Museum.
Kurator*innen: Dr. Robert Eikmeyer, Dr. Astrid Ihle
 
SUMMARY:Jonathan Meese. GESAMTKUNSTWERK >ERZBUCH<! (BUCH DER BÜCHER)
ORGANIZER:ludwigshafen-wow
URL;VALUE=URI:https://ludwigshafen-wow.de/?p=52530
TRANSP:OPAQUE
BEGIN:VALARM
ACTION:DISPLAY
TRIGGER;TZID=Europe/Berlin:20251114T230000
DESCRIPTION:Reminder for Jonathan Meese. GESAMTKUNSTWERK >ERZBUCH&lt\;! (BUCH DER BÜCHER)
END:VALARM
END:VEVENT
END:VCALENDAR
