BEGIN:VCALENDAR
VERSION:2.0
PRODID:-//Ludwigshafen WOW //NONSGML Events //EN
CALSCALE:GREGORIAN
X-WR-CALNAME:Ludwigshafen WOW
BEGIN:VTIMEZONE
TZID:Europe/Berlin
TZURL:http://tzurl.org/zoneinfo-outlook/Europe/Berlin
X-LIC-LOCATION:Europe/Berlin
BEGIN:STANDARD
TZOFFSETFROM:+0200
TZOFFSETTO:+0100
TZNAME:CET
DTSTART:19701025T030000
RRULE:FREQ=YEARLY;BYMONTH=10;BYDAY=-1SU
END:STANDARD
BEGIN:DAYLIGHT
TZOFFSETFROM:+0100
TZOFFSETTO:+0200
TZNAME:CEST
DTSTART:19700329T020000
RRULE:FREQ=YEARLY;BYMONTH=3;BYDAY=-1SU
END:DAYLIGHT
END:VTIMEZONE
BEGIN:VEVENT
TZID:Europe/Berlin
CREATED:20260319T144700
UID:53918
DTSTART;TZID=Europe/Berlin:20260319T200000
DTEND;TZID=Europe/Berlin:20260319T210000
DTSTAMP:20260423T090147
LOCATION:Kulturzentrum dasHausBahnhofstraße 30\, 67059 Ludwigshafen am Rhein
DESCRIPTION:Die Elville Blues Band mit musikalischen GästenDie Elville Blues Band um Tom Schaffert zelebriert monatlich mit wechselnden Gästen den Blues im Kulturzentrum dasHaus.Die monatlich im Ludwigshafener Kulturzentrum dasHaus stattfindenden Blues Sessions bieten authentischen Blues-Rock von der ElVille Blues-Band um Tom Schaffert (Gitarre), Sam Sommer (Schlagzeug), Frowin Ickler (Bass) und Tom Karb (Hammond), die gemeinsam mit wechselnden Gästen authentischen, handgemachten Blues zelebrieren – what you see is what you get, alles handgemacht. Quelle: Kulturzentrum dasHaus, Bild: Pexels.Eintritt: frei
SUMMARY:Blues Session
ORGANIZER:ludwigshafen-wow
URL;VALUE=URI:https://ludwigshafen-wow.de/?p=53918
TRANSP:OPAQUE
BEGIN:VALARM
ACTION:DISPLAY
TRIGGER;TZID=Europe/Berlin:20260319T190000
DESCRIPTION:Reminder for Blues Session
END:VALARM
END:VEVENT
END:VCALENDAR
