BEGIN:VCALENDAR
VERSION:2.0
PRODID:-//Ludwigshafen WOW //NONSGML Events //EN
CALSCALE:GREGORIAN
X-WR-CALNAME:Ludwigshafen WOW
BEGIN:VTIMEZONE
TZID:Europe/Berlin
TZURL:http://tzurl.org/zoneinfo-outlook/Europe/Berlin
X-LIC-LOCATION:Europe/Berlin
BEGIN:STANDARD
TZOFFSETFROM:+0200
TZOFFSETTO:+0100
TZNAME:CET
DTSTART:19701025T030000
RRULE:FREQ=YEARLY;BYMONTH=10;BYDAY=-1SU
END:STANDARD
BEGIN:DAYLIGHT
TZOFFSETFROM:+0100
TZOFFSETTO:+0200
TZNAME:CEST
DTSTART:19700329T020000
RRULE:FREQ=YEARLY;BYMONTH=3;BYDAY=-1SU
END:DAYLIGHT
END:VTIMEZONE
BEGIN:VEVENT
TZID:Europe/Berlin
CREATED:20260314T085717
UID:54545
DTSTART;TZID=Europe/Berlin:20260314T140000
DTEND;TZID=Europe/Berlin:20260422T105809
DTSTAMP:20260422T085809
LOCATION:
DESCRIPTION:Gemeinsam aktuelle Kunst entdecken! In diesem Familienworkshop wollen wir zusammen mit dir und deiner Familie junge Kunst erkunden und selbst kreativ werden. Wie arbeiten Künstler*innen heute? Was wollen sie ausdrücken? Was können wir in der Kunst entdecken? Gemeinsam werden wir viel Spaß bei der Kunsterforschung haben, mit Spielen und Bewegungsgeschichten sowie Kunstexperimenten. Auf diese Weise kannst du mit deinen (Groß-) Eltern eine wunderschöne und kreativ-spielerische Zeit bei uns verbringen. Quelle und Bild Kunstverein Ludwigshafen.Kosten: je 15 € regulär / je 13 € für MitgliederAlter: FamilienworkshopLeitung: Janet Grau, Künstlerin
SUMMARY:Familienzeit Kreativ – Aktuelle Kunst erleben mit der ganzen Familie
ORGANIZER:ludwigshafen-wow
URL;VALUE=URI:https://ludwigshafen-wow.de/?p=54545
TRANSP:OPAQUE
BEGIN:VALARM
ACTION:DISPLAY
TRIGGER;TZID=Europe/Berlin:20260314T130000
DESCRIPTION:Reminder for Familienzeit Kreativ – Aktuelle Kunst erleben mit der ganzen Familie
END:VALARM
END:VEVENT
END:VCALENDAR
