BEGIN:VCALENDAR
VERSION:2.0
PRODID:-//Ludwigshafen WOW //NONSGML Events //EN
CALSCALE:GREGORIAN
X-WR-CALNAME:Ludwigshafen WOW
BEGIN:VTIMEZONE
TZID:Europe/Berlin
TZURL:http://tzurl.org/zoneinfo-outlook/Europe/Berlin
X-LIC-LOCATION:Europe/Berlin
BEGIN:STANDARD
TZOFFSETFROM:+0200
TZOFFSETTO:+0100
TZNAME:CET
DTSTART:19701025T030000
RRULE:FREQ=YEARLY;BYMONTH=10;BYDAY=-1SU
END:STANDARD
BEGIN:DAYLIGHT
TZOFFSETFROM:+0100
TZOFFSETTO:+0200
TZNAME:CEST
DTSTART:19700329T020000
RRULE:FREQ=YEARLY;BYMONTH=3;BYDAY=-1SU
END:DAYLIGHT
END:VTIMEZONE
BEGIN:VEVENT
TZID:Europe/Berlin
CREATED:20260314T131450
UID:55663
DTSTART;TZID=Europe/Berlin:20260422T105758
DTEND;TZID=Europe/Berlin:20260422T105758
DTSTAMP:20260422T085758
LOCATION:
DESCRIPTION:Der MAKERSPACE öffnet Mitte März seine Türen zur zauberhaften Osterwerkstatt! Freut euch auf ein kreatives Familienevent voller inspirierender Workshops, bei denen ihr eure eigene Osterdekoration gestalten könnt.Ob Ostereier bemalen, Hasen aus Holz gestalten, Osterschmuck aus Makramee knüpfen, Hasen aus Gips gießen oder 3D-gedruckte Osterfiguren erschaffen – hier gibt es für jede Altersgruppe etwas zu entdecken. Auch Naturmaterialien kommen nicht zu kurz: Bindet euren eigenen Frühlingskranz oder gestaltet Osternester aus Holz und Zweigen.Für eine süße Pause zwischendurch gibt es frisch gebackenen Kuchen und wer seine Pause lieber deftiger genießt, kann eine Bratwurst essen. Kommt vorbei und erlebt einen kreativen Start in die Osterzeit! Quelle und Bild MAKERSPACE Rhein-Neckar UG.
SUMMARY:Osterzauber zum Selbermachen – Das bunte Familienevent im MAKERSPACE
ORGANIZER:ludwigshafen-wow
URL;VALUE=URI:https://ludwigshafen-wow.de/?p=55663
TRANSP:OPAQUE
BEGIN:VALARM
ACTION:DISPLAY
TRIGGER;TZID=Europe/Berlin:20260422T095758
DESCRIPTION:Reminder for Osterzauber zum Selbermachen – Das bunte Familienevent im MAKERSPACE
END:VALARM
END:VEVENT
END:VCALENDAR
