BEGIN:VCALENDAR
VERSION:2.0
PRODID:-//Ludwigshafen WOW //NONSGML Events //EN
CALSCALE:GREGORIAN
X-WR-CALNAME:Ludwigshafen WOW
BEGIN:VTIMEZONE
TZID:Europe/Berlin
TZURL:http://tzurl.org/zoneinfo-outlook/Europe/Berlin
X-LIC-LOCATION:Europe/Berlin
BEGIN:STANDARD
TZOFFSETFROM:+0200
TZOFFSETTO:+0100
TZNAME:CET
DTSTART:19701025T030000
RRULE:FREQ=YEARLY;BYMONTH=10;BYDAY=-1SU
END:STANDARD
BEGIN:DAYLIGHT
TZOFFSETFROM:+0100
TZOFFSETTO:+0200
TZNAME:CEST
DTSTART:19700329T020000
RRULE:FREQ=YEARLY;BYMONTH=3;BYDAY=-1SU
END:DAYLIGHT
END:VTIMEZONE
BEGIN:VEVENT
TZID:Europe/Berlin
CREATED:20260321T132347
UID:55670
DTSTART;TZID=Europe/Berlin:20260423T110250
DTEND;TZID=Europe/Berlin:19700101T010000
DTSTAMP:20260423T090250
LOCATION:Volkshochschule LudwigshafenBürgerhof\, 67059 Ludwigshafen
DESCRIPTION:Japanisches Erzählkunst: kleines Theater mit großer Wirkung Die vhs und die Deutsch-Japanische Gesellschaft Rhein-Neckar e.V. präsentieren im Rahmen des 125jährigen Jubiläums der vhs die japanische Erzählkunst Kamishibai. Kamishibai bedeutet übersetzt Papiertheater und ist tief in der japanischen Kultur verankert. Kraftvolle Bilder illustriert in einem mobilen Theaterrahmen, der einer richtigen Theaterbühne nachempfunden ist, und ein prägnanter Text lassen eine große Bandbreite von Geschichten entstehen. Diese japanische Erzählkunst lebt von der Bewegung des Bilderziehens und ähnelt dabei eher einem Kurzfilm als einem Bilderbuch. In Japan ist Kamishibai in dieser Form vor gut 100 Jahren als Straßentheater entstanden. Heute wird Kamishibai weltweit eingesetzt, vor allem auch im Bildungsbereich zur Wissens- und Wertevermittlung. Kamishibai besitzt eine verbindende Wirkung über Alters-, Sprach-, Kultur- und Bildungsgrenzen hinweg. Das Ziel von Kamishibai: mit Geschichten miteinander und voneinander lernen.Carmen von Allwörden vom Forum Kamishibai e.V. führt in die Welt der japanischen Erzählkunst ein und zeigt, was den Zauber und die Kraft von Kamishibai ausmacht. Quelle und Bild vhs.Info/Anmeldung bei:vhs-Ludwigshafen im Bürgerhof67059 LudwigshafenTel.: 0621/504-2238Email: info@vhs-lu.deonline: www.vhs-lu.deKursnummer 261I41004
SUMMARY:Kamishibai – japanisches Erzähltheater
ORGANIZER:ludwigshafen-wow
URL;VALUE=URI:https://ludwigshafen-wow.de/?p=55670
TRANSP:OPAQUE
BEGIN:VALARM
ACTION:DISPLAY
TRIGGER;TZID=Europe/Berlin:20260423T100250
DESCRIPTION:Reminder for Kamishibai &#8211\; japanisches Erzähltheater
END:VALARM
END:VEVENT
END:VCALENDAR
