BEGIN:VCALENDAR
VERSION:2.0
PRODID:-//Ludwigshafen WOW //NONSGML Events //EN
CALSCALE:GREGORIAN
X-WR-CALNAME:Ludwigshafen WOW
BEGIN:VTIMEZONE
TZID:Europe/Berlin
TZURL:http://tzurl.org/zoneinfo-outlook/Europe/Berlin
X-LIC-LOCATION:Europe/Berlin
BEGIN:STANDARD
TZOFFSETFROM:+0200
TZOFFSETTO:+0100
TZNAME:CET
DTSTART:19701025T030000
RRULE:FREQ=YEARLY;BYMONTH=10;BYDAY=-1SU
END:STANDARD
BEGIN:DAYLIGHT
TZOFFSETFROM:+0100
TZOFFSETTO:+0200
TZNAME:CEST
DTSTART:19700329T020000
RRULE:FREQ=YEARLY;BYMONTH=3;BYDAY=-1SU
END:DAYLIGHT
END:VTIMEZONE
BEGIN:VEVENT
TZID:Europe/Berlin
CREATED:20260320T134102
UID:55677
DTSTART;TZID=Europe/Berlin:20260320T180000
DTEND;TZID=Europe/Berlin:20260423T104954
DTSTAMP:20260423T084954
LOCATION:Volkshochschule LudwigshafenBürgerhof\, 67059 Ludwigshafen
DESCRIPTION:In ihren heiter-satirischen Kurzgeschichten und Raps beleuchtet Edith Brünnler die Eigenarten unserer Mitmenschen und hält bisweilen auch uns mit einem Augenzwinkern den Spiegel vor. Ihr hintergründiger Humor und ihr treffender Wortwitz machen ihre Veranstaltungen zu einem besonderen Erlebnis. Die einzelnen Geschichten aus ihren Büchern verbindet sie durch eigens für die Lesung geschriebene Textpassagen, so dass eine zusammenhängende Erzählung – ja, fast könnte man sagen – ein Theaterstück entsteht. Denn Edith Brünnler, eine waschechte Ludwigshafenerin aus dem Hemshof, lebt die Szenen: sie lässt stimmlich verschiedene Charaktere lebendig werden und versetzt das Publikum so mitten hinein ins Geschehen. Lassen Sie sich überraschen von der gelungenen Mischung aus Texten zum Schmunzeln, Nachdenken und herzhaften Lachen. Quelle und Bild vhs.Um Anmeldung wird aus organisatorischen Gründen gebeten.Info/Anmeldung bei:vhs-Ludwigshafen im Bürgerhof67059 LudwigshafenTel.: 0621/504-2238Email: info@vhs-lu.deonline: www.vhs-lu.deKursnummer: 261I4270Kosten: 12,00 €
SUMMARY:Pfälzer Abend – Edith Brünnler „Uff mich heert jo käner!“
ORGANIZER:ludwigshafen-wow
URL;VALUE=URI:https://ludwigshafen-wow.de/?p=55677
TRANSP:OPAQUE
BEGIN:VALARM
ACTION:DISPLAY
TRIGGER;TZID=Europe/Berlin:20260320T170000
DESCRIPTION:Reminder for Pfälzer Abend – Edith Brünnler „Uff mich heert jo käner!“
END:VALARM
END:VEVENT
END:VCALENDAR
