BEGIN:VCALENDAR
VERSION:2.0
PRODID:-//Ludwigshafen WOW //NONSGML Events //EN
CALSCALE:GREGORIAN
X-WR-CALNAME:Ludwigshafen WOW
BEGIN:VTIMEZONE
TZID:Europe/Berlin
TZURL:http://tzurl.org/zoneinfo-outlook/Europe/Berlin
X-LIC-LOCATION:Europe/Berlin
BEGIN:STANDARD
TZOFFSETFROM:+0200
TZOFFSETTO:+0100
TZNAME:CET
DTSTART:19701025T030000
RRULE:FREQ=YEARLY;BYMONTH=10;BYDAY=-1SU
END:STANDARD
BEGIN:DAYLIGHT
TZOFFSETFROM:+0100
TZOFFSETTO:+0200
TZNAME:CEST
DTSTART:19700329T020000
RRULE:FREQ=YEARLY;BYMONTH=3;BYDAY=-1SU
END:DAYLIGHT
END:VTIMEZONE
BEGIN:VEVENT
TZID:Europe/Berlin
CREATED:20260326T133842
UID:55939
DTSTART;TZID=Europe/Berlin:20260326T100000
DTEND;TZID=Europe/Berlin:20260326T110000
DTSTAMP:20260423T090147
LOCATION:Kulturzentrum dasHausBahnhofstraße 30\, 67059 Ludwigshafen am Rhein
DESCRIPTION:Ein Tunnel bewegt sich über den Boden, drei Spieler*innen kriechen heraus und wieder herein, entdecken die Umgebung, die Tunnel und sich.Companie M lädt ein zu einer spannenden Reise in zahlreiche Welten und klangvolle Atmosphären. Da werden Hände zu Füßen, zwei Körper zu einem, ein einfacher Tunnel verwandelt sich innerhalb von Sekunden zu einer Raupe, einem Elefantenrüssel, einem majestätischen Gewand, zu einem riesigen Fischmaul oder einem staubsaugenden Wesen. Alles kommt in Bewegung. Begleitet von Percussion, Klängen und Melodien schlüpfen die Spieler*innen lustvoll und spielerisch in die Tunnel, nutzen sie als Rückzugsort oder Versteck und werden so manches Mal völlig vereinnahmt und überrascht von der Lebendigkeit und der Vielfältigkeit der Tunnel. Im Wechselspiel von Tanz, Theater und Musik entsteht eine Aufführung reich an Phantasie, Poesie, Neugier und Wagemut.Ein Projekt von Companie MChoreografie: Gaëlle MorelloRegie: Nina WeberPerformance: Giuseppina Tragni, Miriam Lemdjadi und Peter HinzMusik: Peter HinzBühnen- und Kostümbild: Maria Wolgast Gefördert durch den Beauftragten der Bundesregierung für Kultur und Medien im Programm FAIRP(L)AY sowie vom Kulturamt der Stadt Heidelberg.Eine Veranstaltung des Fördevereins dasHaus e.V.EintrittKita mit Voranmeldung: 5 € pro Kind / VVK Erwachsene: 10,90 € (zzgl. Gebühren) / VVK Kind: 6,50 € (zzgl. Gebühren) / AK Erwachsene: 13 € / AK Kind: 8 €  ZU DEN TICKETS 
SUMMARY:COUCOU. ein Tanz- und Objekttheater für alle ab 2 Jahren
ORGANIZER:ludwigshafen-wow
URL;VALUE=URI:https://ludwigshafen-wow.de/?p=55939
TRANSP:OPAQUE
BEGIN:VALARM
ACTION:DISPLAY
TRIGGER;TZID=Europe/Berlin:20260326T090000
DESCRIPTION:Reminder for COUCOU. ein Tanz- und Objekttheater für alle ab 2 Jahren
END:VALARM
END:VEVENT
END:VCALENDAR
