BEGIN:VCALENDAR
VERSION:2.0
PRODID:-//Ludwigshafen WOW //NONSGML Events //EN
CALSCALE:GREGORIAN
X-WR-CALNAME:Ludwigshafen WOW
BEGIN:VTIMEZONE
TZID:Europe/Berlin
TZURL:http://tzurl.org/zoneinfo-outlook/Europe/Berlin
X-LIC-LOCATION:Europe/Berlin
BEGIN:STANDARD
TZOFFSETFROM:+0200
TZOFFSETTO:+0100
TZNAME:CET
DTSTART:19701025T030000
RRULE:FREQ=YEARLY;BYMONTH=10;BYDAY=-1SU
END:STANDARD
BEGIN:DAYLIGHT
TZOFFSETFROM:+0100
TZOFFSETTO:+0200
TZNAME:CEST
DTSTART:19700329T020000
RRULE:FREQ=YEARLY;BYMONTH=3;BYDAY=-1SU
END:DAYLIGHT
END:VTIMEZONE
BEGIN:VEVENT
TZID:Europe/Berlin
CREATED:20260328T145011
UID:55958
DTSTART;TZID=Europe/Berlin:20260328T090000
DTEND;TZID=Europe/Berlin:20260328T100000
DTSTAMP:20260423T090257
LOCATION:Kulturzentrum dasHausBahnhofstraße 30\, 67059 Ludwigshafen am Rhein
DESCRIPTION:Die größte Börse für Comic-, TV- und Kino-Merchandising-Spielsachen im süddeutschen Raum. Seit 1988.
An bis zu 100 Tischen präsentieren bis zu 40 Händler*innen und Sammler*innen aus dem In- und Ausland zweimal im Jahr ihr Angebot rund ums Thema Spielzeugfiguren. Seit 2007 auch mit Comic- und Romanheften! Quelle & Bild: Kulturzentrum dasHaus
Hier findet ihr nähere Informationen: https://www.comicfigurenbörse.de/
Eine Veranstaltung der Comicfigurenbörse Ludwigshafen
Eintritt3 € / Early Bird: 10 €Early Bird Eintritt ab 7:00 Uhr
SUMMARY:Figurenbörse. das Original seit 1988
ORGANIZER:ludwigshafen-wow
URL;VALUE=URI:https://ludwigshafen-wow.de/?p=55958
TRANSP:OPAQUE
BEGIN:VALARM
ACTION:DISPLAY
TRIGGER;TZID=Europe/Berlin:20260328T080000
DESCRIPTION:Reminder for Figurenbörse. das Original seit 1988
END:VALARM
END:VEVENT
END:VCALENDAR
